BEGIN:VCALENDAR
VERSION:2.0
PRODID:-//Clallam County - ECPv6.1.3//NONSGML v1.0//EN
CALSCALE:GREGORIAN
METHOD:PUBLISH
X-ORIGINAL-URL:https://extension.wsu.edu/clallam
X-WR-CALDESC:Events for Clallam County
REFRESH-INTERVAL;VALUE=DURATION:PT1H
X-Robots-Tag:noindex
X-PUBLISHED-TTL:PT1H
BEGIN:VTIMEZONE
TZID:America/Los_Angeles
BEGIN:DAYLIGHT
TZOFFSETFROM:-0800
TZOFFSETTO:-0700
TZNAME:PDT
DTSTART:20220313T100000
END:DAYLIGHT
BEGIN:STANDARD
TZOFFSETFROM:-0700
TZOFFSETTO:-0800
TZNAME:PST
DTSTART:20221106T090000
END:STANDARD
END:VTIMEZONE
BEGIN:VEVENT
DTSTART;TZID=America/Los_Angeles:20220625T100000
DTEND;TZID=America/Los_Angeles:20220625T160000
DTSTAMP:20260419T072321
CREATED:20220609T174441Z
LAST-MODIFIED:20220609T174441Z
UID:10000418-1656151200-1656172800@extension.wsu.edu
SUMMARY:27th Annual Garden Tour - Petals & Pathways
DESCRIPTION:Come on out and take a tour through 6 amazing gardens on the: \n27th Annual Home Garden Tour – Petals and Pathways\nSaturday June 25th\, 2022 – 10 am to 4 pm\nA fundraiser event for The Clallam County Master Gardener Foundation\n  \nEarly-bird tickets will be $15 through June 24th. \nTickets purchased on the day of the tour are $20 \nOnline ticket sales are available through June 19th (please follow this link) on the Clallam Master Gardener’s Foundation website. \nYou can also purchase tickets at the following local businesses —> \nIn Sequim: \n\nOver-The-Fence — The Co-op Farm & Garden — Sunny Farms Grocery Store\n\nIn Port Angeles: \n\nPort Book & News — Swain’s General Store — Airport Garden Center — Fiddleheads Home & Garden\n\nIn Joyce: \n\nArt & Antique\n\nIn Forks: \n\nForks Outfitters — Rusty Gate Nursery\n\nThe 2022 Garden Tour features SIX outstanding Port Angeles gardens\, two lovingly tended in-town home gardens and four awesome woodland gardens along Highway 112! \nGrandma’s Garden — Four Seasons Garden — A Place To Reflect — A Woodland Oasis — Permaculture Garden — Fairnie Brae \nFor a detailed description of the 6 gardens\, Please see this information on the Clallam Master Gardener Foundation Website. \nPrepare to be amazed and inspired! A Huge Thank You to all the supporters of the Tour and the hospitality of the garden owners! \nHere is our event Flyer. Thank you for sharing it with a friend!
URL:https://extension.wsu.edu/clallam/event/27th-annual-garden-tour-petals-pathways/
LOCATION:WA
CATEGORIES:MG
ATTACH;FMTTYPE=image/png:https://wpcdn.web.wsu.edu/extension/uploads/sites/76/2022/06/PP-tree-dropshadow-e1654796651608.png
ORGANIZER;CN="Master%20Gardener%20Foundation%20of%20Clallam%20County":MAILTO:harmony.rutter@wsu.edu
END:VEVENT
END:VCALENDAR