BEGIN:VCALENDAR
VERSION:2.0
PRODID:-//Clallam County - ECPv6.1.3//NONSGML v1.0//EN
CALSCALE:GREGORIAN
METHOD:PUBLISH
X-WR-CALNAME:Clallam County
X-ORIGINAL-URL:https://extension.wsu.edu/clallam
X-WR-CALDESC:Events for Clallam County
REFRESH-INTERVAL;VALUE=DURATION:PT1H
X-Robots-Tag:noindex
X-PUBLISHED-TTL:PT1H
BEGIN:VTIMEZONE
TZID:America/Los_Angeles
BEGIN:DAYLIGHT
TZOFFSETFROM:-0800
TZOFFSETTO:-0700
TZNAME:PDT
DTSTART:20160313T100000
END:DAYLIGHT
BEGIN:STANDARD
TZOFFSETFROM:-0700
TZOFFSETTO:-0800
TZNAME:PST
DTSTART:20161106T090000
END:STANDARD
END:VTIMEZONE
BEGIN:VEVENT
DTSTART;TZID=America/Los_Angeles:20160719T183000
DTEND;TZID=America/Los_Angeles:20160719T200000
DTSTAMP:20260424T140103
CREATED:20160718T164233Z
LAST-MODIFIED:20160718T164233Z
UID:10000069-1468953000-1468958400@extension.wsu.edu
SUMMARY:Composting Workshop
DESCRIPTION:Composting your kitchen scraps and yard trimmings is an easy\, low maintenance way to reduce household waste and produce a useful soil product. These workshops will cover the basics of composting and demonstrate multiple strategies to turn your veggie scraps\, fruit peals\, coffee grounds\, eggshells\, fallen leaves and yard trimmings into free\, nutrient rich compost for your garden and house plants! \n  \nA variety of compost systems are on display at the 5th Street Community Garden in Port Angeles as well as the Woodcock Demonstration Garden in Sequim to be viewed at any time.  Brochures on composting and links to WSU soils\, mulches and composting publications can be found on our website.
URL:https://extension.wsu.edu/clallam/event/composting-workshop-2/
LOCATION:5th Street Community Garden\, 328 E. Fifth Street\, Port Angeles\, WA\, 98362\, United States
GEO:48.113324;-123.432101
X-APPLE-STRUCTURED-LOCATION;VALUE=URI;X-ADDRESS=5th Street Community Garden 328 E. Fifth Street Port Angeles WA 98362 United States;X-APPLE-RADIUS=500;X-TITLE=328 E. Fifth Street:geo:-123.432101,48.113324
END:VEVENT
END:VCALENDAR