BEGIN:VCALENDAR
VERSION:2.0
PRODID:-//Clallam County - ECPv6.1.3//NONSGML v1.0//EN
CALSCALE:GREGORIAN
METHOD:PUBLISH
X-WR-CALNAME:Clallam County
X-ORIGINAL-URL:https://extension.wsu.edu/clallam
X-WR-CALDESC:Events for Clallam County
REFRESH-INTERVAL;VALUE=DURATION:PT1H
X-Robots-Tag:noindex
X-PUBLISHED-TTL:PT1H
BEGIN:VTIMEZONE
TZID:America/Los_Angeles
BEGIN:DAYLIGHT
TZOFFSETFROM:-0800
TZOFFSETTO:-0700
TZNAME:PDT
DTSTART:20150308T100000
END:DAYLIGHT
BEGIN:STANDARD
TZOFFSETFROM:-0700
TZOFFSETTO:-0800
TZNAME:PST
DTSTART:20151101T090000
END:STANDARD
BEGIN:DAYLIGHT
TZOFFSETFROM:-0800
TZOFFSETTO:-0700
TZNAME:PDT
DTSTART:20160313T100000
END:DAYLIGHT
BEGIN:STANDARD
TZOFFSETFROM:-0700
TZOFFSETTO:-0800
TZNAME:PST
DTSTART:20161106T090000
END:STANDARD
END:VTIMEZONE
BEGIN:VEVENT
DTSTART;TZID=America/Los_Angeles:20150815T100000
DTEND;TZID=America/Los_Angeles:20150815T140000
DTSTAMP:20260419T160233
CREATED:20150922T191339Z
LAST-MODIFIED:20150922T191339Z
UID:10000048-1439632800-1439647200@extension.wsu.edu
SUMMARY:Garden Day at Forks Community Garden
DESCRIPTION:WSU Clallam County Extension is excited to partner with the Forks Community Garden on this free\, family event! Get resources on sustainable gardening\, food preservation\, composting and more!\n10 am: Noxious Weeds 101\, Cathy Lucero\, Clallam County Noxious Weeds Coordinator\n11 am: Harvest Cooking Demo\, Betsy Wharton\, WSU Food Preservation Specialist\n12 pm: Cover Crops & Winter Gardening\, Clallam County Master Gardeners\n1 pm: Home Composting\, Clallam County Master Composters \nCOME ANYTIME FOR ONGOING ACTIVITIES!\n*Contests & giveaways\n*Pressure gauge testing\n*Food demos & snacks\n*Kids’ activities \nIncluding an 11:30 am tomato tasting contest! Bring your home grown tomatoes to take home the prize!
URL:https://extension.wsu.edu/clallam/event/garden-day-at-forks-community-garden/
LOCATION:Forks Community Garden\, Founders Way\, Forks\, WA 98331\, USA\, Forks\, Washington\, 98331\, United States
CATEGORIES:4-H,Agriculture,MG,NRS
GEO:47.7716039;-124.2838835
X-APPLE-STRUCTURED-LOCATION;VALUE=URI;X-ADDRESS=Forks Community Garden Founders Way Forks WA 98331 USA Forks Washington 98331 United States;X-APPLE-RADIUS=500;X-TITLE=Founders Way\, Forks\, WA 98331\, USA:geo:-124.2838835,47.7716039
END:VEVENT
BEGIN:VEVENT
DTSTART;TZID=America/Los_Angeles:20160811T183000
DTEND;TZID=America/Los_Angeles:20160811T200000
DTSTAMP:20260419T160233
CREATED:20160718T164350Z
LAST-MODIFIED:20160718T164350Z
UID:10000070-1470940200-1470945600@extension.wsu.edu
SUMMARY:Composting Workshop
DESCRIPTION:Composting your kitchen scraps and yard trimmings is an easy\, low maintenance way to reduce household waste and produce a useful soil product. These workshops will cover the basics of composting and demonstrate multiple strategies to turn your veggie scraps\, fruit peals\, coffee grounds\, eggshells\, fallen leaves and yard trimmings into free\, nutrient rich compost for your garden and house plants! \n  \nA variety of compost systems are on display at the 5th Street Community Garden in Port Angeles as well as the Woodcock Demonstration Garden in Sequim to be viewed at any time.  Brochures on composting and links to WSU soils\, mulches and composting publications can be found on our website.
URL:https://extension.wsu.edu/clallam/event/composting-workshop-3/
LOCATION:Forks Community Garden\, Founders Way\, Forks\, WA 98331\, USA\, Forks\, Washington\, 98331\, United States
GEO:47.7716039;-124.2838835
X-APPLE-STRUCTURED-LOCATION;VALUE=URI;X-ADDRESS=Forks Community Garden Founders Way Forks WA 98331 USA Forks Washington 98331 United States;X-APPLE-RADIUS=500;X-TITLE=Founders Way\, Forks\, WA 98331\, USA:geo:-124.2838835,47.7716039
END:VEVENT
END:VCALENDAR