BEGIN:VCALENDAR
VERSION:2.0
PRODID:-//Clallam County - ECPv6.1.3//NONSGML v1.0//EN
CALSCALE:GREGORIAN
METHOD:PUBLISH
X-ORIGINAL-URL:https://extension.wsu.edu/clallam
X-WR-CALDESC:Events for Clallam County
REFRESH-INTERVAL;VALUE=DURATION:PT1H
X-Robots-Tag:noindex
X-PUBLISHED-TTL:PT1H
BEGIN:VTIMEZONE
TZID:America/Los_Angeles
BEGIN:DAYLIGHT
TZOFFSETFROM:-0800
TZOFFSETTO:-0700
TZNAME:PDT
DTSTART:20190310T100000
END:DAYLIGHT
BEGIN:STANDARD
TZOFFSETFROM:-0700
TZOFFSETTO:-0800
TZNAME:PST
DTSTART:20191103T090000
END:STANDARD
END:VTIMEZONE
BEGIN:VEVENT
DTSTART;TZID=America/Los_Angeles:20190626T180000
DTEND;TZID=America/Los_Angeles:20190626T200000
DTSTAMP:20260424T191928
CREATED:20190513T180509Z
LAST-MODIFIED:20190513T180509Z
UID:10000283-1561572000-1561579200@extension.wsu.edu
SUMMARY:Show Success Seminar
DESCRIPTION:Wilco Farm Stores and Purina are putting on this FREE event open to all youth focused on livestock nutrition\, management\, showing and fitting. \n 
URL:https://extension.wsu.edu/clallam/event/show-success-seminar/
LOCATION:Kitsap County Fairgrounds\, 1200 Fairgrounds Rd NW\, Bremerton\, WA\, 98311
CATEGORIES:4-H
GEO:47.6334123;-122.6640917
X-APPLE-STRUCTURED-LOCATION;VALUE=URI;X-ADDRESS=Kitsap County Fairgrounds 1200 Fairgrounds Rd NW Bremerton WA 98311;X-APPLE-RADIUS=500;X-TITLE=1200 Fairgrounds Rd NW:geo:-122.6640917,47.6334123
END:VEVENT
END:VCALENDAR