BEGIN:VCALENDAR
VERSION:2.0
PRODID:-//Clallam County - ECPv6.1.3//NONSGML v1.0//EN
CALSCALE:GREGORIAN
METHOD:PUBLISH
X-ORIGINAL-URL:https://extension.wsu.edu/clallam
X-WR-CALDESC:Events for Clallam County
REFRESH-INTERVAL;VALUE=DURATION:PT1H
X-Robots-Tag:noindex
X-PUBLISHED-TTL:PT1H
BEGIN:VTIMEZONE
TZID:America/Los_Angeles
BEGIN:DAYLIGHT
TZOFFSETFROM:-0800
TZOFFSETTO:-0700
TZNAME:PDT
DTSTART:20160313T100000
END:DAYLIGHT
BEGIN:STANDARD
TZOFFSETFROM:-0700
TZOFFSETTO:-0800
TZNAME:PST
DTSTART:20161106T090000
END:STANDARD
END:VTIMEZONE
BEGIN:VEVENT
DTSTART;TZID=America/Los_Angeles:20160804T100000
DTEND;TZID=America/Los_Angeles:20160804T160000
DTSTAMP:20260420T151827
CREATED:20160531T193951Z
LAST-MODIFIED:20160531T193951Z
UID:10000065-1470304800-1470326400@extension.wsu.edu
SUMMARY:Soil Management III Soil Science and Ecology
DESCRIPTION:Held at the WSU Twin Vista Ranch with WSU Small Farms Specialist and Soil Scientist Doug Collins. \nLearn how to take soil samples.  Learn soil types\, composition\, structure and texture\, soil food chain\, energy cycling mineralization and immobilization\, nutrient cycling.  Bring your farm soil samples.
URL:https://extension.wsu.edu/clallam/event/soil-management-iii-soil-science-and-ecology/
LOCATION:Twin Vista Ranch\, 6456 Flagler Road\, Nordland\, WA\, United States
GEO:48.04051;-122.687551
X-APPLE-STRUCTURED-LOCATION;VALUE=URI;X-ADDRESS=Twin Vista Ranch 6456 Flagler Road Nordland WA United States;X-APPLE-RADIUS=500;X-TITLE=6456 Flagler Road:geo:-122.687551,48.04051
END:VEVENT
END:VCALENDAR