BEGIN:VCALENDAR
VERSION:2.0
PRODID:-//Clark County - ECPv6.1.3//NONSGML v1.0//EN
CALSCALE:GREGORIAN
METHOD:PUBLISH
X-ORIGINAL-URL:https://extension.wsu.edu/clark
X-WR-CALDESC:Events for Clark County
REFRESH-INTERVAL;VALUE=DURATION:PT1H
X-Robots-Tag:noindex
X-PUBLISHED-TTL:PT1H
BEGIN:VTIMEZONE
TZID:America/Los_Angeles
BEGIN:DAYLIGHT
TZOFFSETFROM:-0800
TZOFFSETTO:-0700
TZNAME:PDT
DTSTART:20250309T100000
END:DAYLIGHT
BEGIN:STANDARD
TZOFFSETFROM:-0700
TZOFFSETTO:-0800
TZNAME:PST
DTSTART:20251102T090000
END:STANDARD
END:VTIMEZONE
BEGIN:VEVENT
DTSTART;TZID=America/Los_Angeles:20250818T180000
DTEND;TZID=America/Los_Angeles:20250818T210000
DTSTAMP:20260425T201631
CREATED:20250815T230337Z
LAST-MODIFIED:20250815T234403Z
UID:23969-1755540000-1755550800@extension.wsu.edu
SUMMARY:Explore Your Farm Dreams
DESCRIPTION:WSU Cultivating Success course registration is open now! Join us for one course or both\, Explore Your Farm Dreams and Whole Farm Planning!\n¡La inscripción está abierto para los cursos de WSU Cultivando éxito\, Explore los pasos hacia una granja y Planificación de toda la granja! \nwww.cultivatingsuccesswa.org #cultivatingsuccess #cultivatingsuccesswa \nScholarships are available for anyone for whom the course fee is a barrier.\nHay becas disponibles para cualquier persona para quien la tarifa del curso sea una barrera.  \nhttps://www.cultivatingsuccesswa.org/explore-your-farm-dreams \n 
URL:https://extension.wsu.edu/clark/event/explore-your-farm-dreams/
LOCATION:ONLINE
ORGANIZER;CN="Terry%20Koper":MAILTO:terry.koper@wsu.edu
END:VEVENT
END:VCALENDAR