BEGIN:VCALENDAR
VERSION:2.0
PRODID:-//Grant County - ECPv6.1.3//NONSGML v1.0//EN
CALSCALE:GREGORIAN
METHOD:PUBLISH
X-WR-CALNAME:Grant County
X-ORIGINAL-URL:https://extension.wsu.edu/grant
X-WR-CALDESC:Events for Grant County
REFRESH-INTERVAL;VALUE=DURATION:PT1H
X-Robots-Tag:noindex
X-PUBLISHED-TTL:PT1H
BEGIN:VTIMEZONE
TZID:America/Los_Angeles
BEGIN:DAYLIGHT
TZOFFSETFROM:-0800
TZOFFSETTO:-0700
TZNAME:PDT
DTSTART:20200308T100000
END:DAYLIGHT
BEGIN:STANDARD
TZOFFSETFROM:-0700
TZOFFSETTO:-0800
TZNAME:PST
DTSTART:20201101T090000
END:STANDARD
END:VTIMEZONE
BEGIN:VEVENT
DTSTART;TZID=America/Los_Angeles:20200203T082500
DTEND;TZID=America/Los_Angeles:20200203T150000
DTSTAMP:20260421T055744
CREATED:20200131T212738Z
LAST-MODIFIED:20200131T212738Z
UID:10000062-1580718300-1580742000@extension.wsu.edu
SUMMARY:Mid Columbia Basin Hay Growers Association Annual Meeting
DESCRIPTION:  \nMCBHGA Annual Meeting Flyer and Registration │Campus Map │ Driving Directions \n 
URL:https://extension.wsu.edu/grant/event/mid-columbia-basin-hay-growers-association-annual-meeting/
LOCATION:Big Bend Community College\, ATEC\, 7611 Bolling Street NE\, Moses Lake\, WA\, 98837\, United States
CATEGORIES:Agriculture
GEO:47.1860197;-119.3156691
X-APPLE-STRUCTURED-LOCATION;VALUE=URI;X-ADDRESS=Big Bend Community College ATEC 7611 Bolling Street NE Moses Lake WA 98837 United States;X-APPLE-RADIUS=500;X-TITLE=7611 Bolling Street NE:geo:-119.3156691,47.1860197
END:VEVENT
END:VCALENDAR