BEGIN:VCALENDAR
VERSION:2.0
PRODID:-//Grant County - ECPv6.1.3//NONSGML v1.0//EN
CALSCALE:GREGORIAN
METHOD:PUBLISH
X-ORIGINAL-URL:https://extension.wsu.edu/grant
X-WR-CALDESC:Events for Grant County
REFRESH-INTERVAL;VALUE=DURATION:PT1H
X-Robots-Tag:noindex
X-PUBLISHED-TTL:PT1H
BEGIN:VTIMEZONE
TZID:America/Los_Angeles
BEGIN:DAYLIGHT
TZOFFSETFROM:-0800
TZOFFSETTO:-0700
TZNAME:PDT
DTSTART:20180311T100000
END:DAYLIGHT
BEGIN:STANDARD
TZOFFSETFROM:-0700
TZOFFSETTO:-0800
TZNAME:PST
DTSTART:20181104T090000
END:STANDARD
END:VTIMEZONE
BEGIN:VEVENT
DTSTART;TZID=America/Los_Angeles:20180621T090000
DTEND;TZID=America/Los_Angeles:20180621T150000
DTSTAMP:20260423T162745
CREATED:20180615T155433Z
LAST-MODIFIED:20180615T155433Z
UID:10000056-1529571600-1529593200@extension.wsu.edu
SUMMARY:Area V Livestock Judging Day at Freeman's Dairy
DESCRIPTION:All county 4-H & FFA members are invited to come and practice their livestock judging skills.  Judging classes will include horses\, beef cattle\, dairy cattle\, swine\, sheep\, and goats.  This is a good place to fit in a demonstration\, to practice for fair and to meet up with friends from around the county.  A potluck lunch will follow judging\, so please bring your favorite dish to share. \nIf you have questions or need direction please call Tom Freeman at 509.346.2516 or Tony Freeman at 509.989.1942.
URL:https://extension.wsu.edu/grant/event/area-v-livestock-judging-day-at-freemans-dairy/
LOCATION:Tom Freeman Dairy\, 14598 Rd E SE\, Othello\, WA\, 99344\, United States
CATEGORIES:4-H,Livestock
GEO:46.9120677;-119.1152157
X-APPLE-STRUCTURED-LOCATION;VALUE=URI;X-ADDRESS=Tom Freeman Dairy 14598 Rd E SE Othello WA 99344 United States;X-APPLE-RADIUS=500;X-TITLE=14598 Rd E SE:geo:-119.1152157,46.9120677
END:VEVENT
END:VCALENDAR