BEGIN:VCALENDAR
VERSION:2.0
PRODID:-//Grant County - ECPv6.1.3//NONSGML v1.0//EN
CALSCALE:GREGORIAN
METHOD:PUBLISH
X-ORIGINAL-URL:https://extension.wsu.edu/grant
X-WR-CALDESC:Events for Grant County
REFRESH-INTERVAL;VALUE=DURATION:PT1H
X-Robots-Tag:noindex
X-PUBLISHED-TTL:PT1H
BEGIN:VTIMEZONE
TZID:America/Los_Angeles
BEGIN:DAYLIGHT
TZOFFSETFROM:-0800
TZOFFSETTO:-0700
TZNAME:PDT
DTSTART:20180311T100000
END:DAYLIGHT
BEGIN:STANDARD
TZOFFSETFROM:-0700
TZOFFSETTO:-0800
TZNAME:PST
DTSTART:20181104T090000
END:STANDARD
BEGIN:DAYLIGHT
TZOFFSETFROM:-0800
TZOFFSETTO:-0700
TZNAME:PDT
DTSTART:20190310T100000
END:DAYLIGHT
BEGIN:STANDARD
TZOFFSETFROM:-0700
TZOFFSETTO:-0800
TZNAME:PST
DTSTART:20191103T090000
END:STANDARD
BEGIN:DAYLIGHT
TZOFFSETFROM:-0800
TZOFFSETTO:-0700
TZNAME:PDT
DTSTART:20200308T100000
END:DAYLIGHT
BEGIN:STANDARD
TZOFFSETFROM:-0700
TZOFFSETTO:-0800
TZNAME:PST
DTSTART:20201101T090000
END:STANDARD
BEGIN:DAYLIGHT
TZOFFSETFROM:-0800
TZOFFSETTO:-0700
TZNAME:PDT
DTSTART:20210314T100000
END:DAYLIGHT
BEGIN:STANDARD
TZOFFSETFROM:-0700
TZOFFSETTO:-0800
TZNAME:PST
DTSTART:20211107T090000
END:STANDARD
BEGIN:DAYLIGHT
TZOFFSETFROM:-0800
TZOFFSETTO:-0700
TZNAME:PDT
DTSTART:20220313T100000
END:DAYLIGHT
BEGIN:STANDARD
TZOFFSETFROM:-0700
TZOFFSETTO:-0800
TZNAME:PST
DTSTART:20221106T090000
END:STANDARD
BEGIN:DAYLIGHT
TZOFFSETFROM:-0800
TZOFFSETTO:-0700
TZNAME:PDT
DTSTART:20230312T100000
END:DAYLIGHT
BEGIN:STANDARD
TZOFFSETFROM:-0700
TZOFFSETTO:-0800
TZNAME:PST
DTSTART:20231105T090000
END:STANDARD
BEGIN:DAYLIGHT
TZOFFSETFROM:-0800
TZOFFSETTO:-0700
TZNAME:PDT
DTSTART:20240310T100000
END:DAYLIGHT
BEGIN:STANDARD
TZOFFSETFROM:-0700
TZOFFSETTO:-0800
TZNAME:PST
DTSTART:20241103T090000
END:STANDARD
END:VTIMEZONE
BEGIN:VEVENT
DTSTART;TZID=America/Los_Angeles:20180423T173000
DTEND;TZID=America/Los_Angeles:20180423T203000
DTSTAMP:20260423T005958
CREATED:20180330T175132Z
LAST-MODIFIED:20180330T175132Z
UID:10000052-1524504600-1524515400@extension.wsu.edu
SUMMARY:4-H 101 Leader Training Canceled
DESCRIPTION:The 4-H 101 Leader Training tentatively set for Monday\, May 21\, 2018 in Ritzville has been canceled due to not enough RSVP’s to warrant the training at this time.  If you are a volunteer leader who has not yet taken the required 4-H 101 Leader Training\, you will not be accepted as a 4-H volunteer leader this year. \n\n4-H 101 Leader Training Parts 1 and 2 for New Volunteers \nAre you thinking about starting a new 4-H club or family 4-H group? Are you signing up as a volunteer with 4-H for the first time?  Are you a returning volunteer and have not completed 4-H 101 Leader training?  If so\, please contact Jeannie Kiehn\, jmkiehn@wsu.edu; 754-2011 ext. 4313. \nAll volunteers signing up for the first time must submit a WSU 4-H Volunteer Application Form to the Extension Office for screening.  New 4-H volunteers are required to complete the 4-H 101 Volunteer Leader Training Parts 1 & 2.  This training (how to plan club programming\, ensure you are up-to-date on WSU and state 4-H policies and procedures\, risk management\, etc.) will prepare you to become a certified 4-H volunteer of a 4-H club or group. \n4-H 101 Volunteer Leader Training Part 1 (Prerequisite for 4-H 101 Part 2): \n─  Completed WSU 4-H Volunteer Application on file at the Extension office. \n─  Complete the Volunteer E-Learning Modules online training course.  The password is volunteer. \n─  Complete the online “Put the Child First” child protection training video. \n4-H 101 Volunteer Leader Training Part 2 \n─ Trainings are held in Grant County and Adams County.  Scheduled training dates are announced in the 4-H Friday Update and an RSVP to the Extension Office is required.
URL:https://extension.wsu.edu/grant/event/4-h-101-leader-training/
LOCATION:WSU Extension Office\, 1525 E Wheeler Rd\, Moses Lake\, WA\, 98837\, United States
CATEGORIES:4-H
ORGANIZER;CN="Jeannie%20Kiehn":MAILTO:jmkiehn@wsu.edu
GEO:47.1301592;-119.2503273
X-APPLE-STRUCTURED-LOCATION;VALUE=URI;X-ADDRESS=WSU Extension Office 1525 E Wheeler Rd Moses Lake WA 98837 United States;X-APPLE-RADIUS=500;X-TITLE=1525 E Wheeler Rd:geo:-119.2503273,47.1301592
END:VEVENT
BEGIN:VEVENT
DTSTART;TZID=America/Los_Angeles:20190128T173000
DTEND;TZID=America/Los_Angeles:20190128T203000
DTSTAMP:20260423T005958
CREATED:20181228T182116Z
LAST-MODIFIED:20181228T182116Z
UID:10000058-1548696600-1548707400@extension.wsu.edu
SUMMARY:4-H 101 Leader Training
DESCRIPTION:4-H 101 is required for NEW 4-H volunteer leaders and those that have had a lapse in their volunteer years.  WSU Grant-Adams Extension\, Adams County Extension and Lincoln County Extension will be offering additional trainings this winter and spring. \nPlease RSVP to Jeannie Kiehn at jmkiehn@wsu.edu or 509-754-2011 ext: 4309. \nAdams County Extension is offering a training on Thursday\, January 31st in Connell at Michael Jay’s Restaurant meeting room\, beginning at 5:00 p.m.
URL:https://extension.wsu.edu/grant/event/4-h-101-leader-training-2/
LOCATION:WSU Extension Office\, 1525 E Wheeler Rd\, Moses Lake\, WA\, 98837\, United States
GEO:47.1301592;-119.2503273
X-APPLE-STRUCTURED-LOCATION;VALUE=URI;X-ADDRESS=WSU Extension Office 1525 E Wheeler Rd Moses Lake WA 98837 United States;X-APPLE-RADIUS=500;X-TITLE=1525 E Wheeler Rd:geo:-119.2503273,47.1301592
END:VEVENT
BEGIN:VEVENT
DTSTART;VALUE=DATE:20210728
DTEND;VALUE=DATE:20210729
DTSTAMP:20260423T005958
CREATED:20210603T180823Z
LAST-MODIFIED:20210603T180823Z
UID:10000073-1627430400-1627516799@extension.wsu.edu
SUMMARY:4-H Educational Posters Due Date
DESCRIPTION:In-Person Event\nEducational posters will be judged prior to being displayed at the fair this year. \nThey need to be dropped off at the Extension Office by July 28th. \nPlease include following information on the back of the posters: name\, age division\, exhibitor number\, and 4-H Club name. \nOnce they are judged\, they can be collected from the Extension office on August 12-13th or picked up Monday\, August 16th at the 4-H building at the Fairgrounds and displayed on/near animal pens or cages. \nThis new plan is for the comfort and safety of our poster judges. \nExtension Office Hours:\nMonday – Friday \n8:00 am – 5:00 pm
URL:https://extension.wsu.edu/grant/event/4-h-educational-posters-due-date/
LOCATION:WSU Extension Office\, 1525 E Wheeler Rd\, Moses Lake\, WA\, 98837\, United States
CATEGORIES:4-H
GEO:47.1301592;-119.2503273
X-APPLE-STRUCTURED-LOCATION;VALUE=URI;X-ADDRESS=WSU Extension Office 1525 E Wheeler Rd Moses Lake WA 98837 United States;X-APPLE-RADIUS=500;X-TITLE=1525 E Wheeler Rd:geo:-119.2503273,47.1301592
END:VEVENT
BEGIN:VEVENT
DTSTART;VALUE=DATE:20210729
DTEND;VALUE=DATE:20210731
DTSTAMP:20260423T005958
CREATED:20210714T202809Z
LAST-MODIFIED:20210714T202809Z
UID:10000082-1627516800-1627689599@extension.wsu.edu
SUMMARY:Extension Office Closed - Building Maintenance
DESCRIPTION:The Extension Office will be closed on July 29th and 30th – there will be no power to the building.
URL:https://extension.wsu.edu/grant/event/extension-office-closed-building-maintenance/
LOCATION:WSU Extension Office\, 1525 E Wheeler Rd\, Moses Lake\, WA\, 98837\, United States
GEO:47.1301592;-119.2503273
X-APPLE-STRUCTURED-LOCATION;VALUE=URI;X-ADDRESS=WSU Extension Office 1525 E Wheeler Rd Moses Lake WA 98837 United States;X-APPLE-RADIUS=500;X-TITLE=1525 E Wheeler Rd:geo:-119.2503273,47.1301592
END:VEVENT
BEGIN:VEVENT
DTSTART;VALUE=DATE:20210812
DTEND;VALUE=DATE:20210814
DTSTAMP:20260423T005958
CREATED:20210603T181435Z
LAST-MODIFIED:20210603T181435Z
UID:10000074-1628726400-1628899199@extension.wsu.edu
SUMMARY:4-H Education Poster Pick-Up
DESCRIPTION:In Person Event\nEducational Posters can be collected from the Extension Office on August 12th and 13th. \nAny posters not picked up at the Extension Office can be picked up Monday\, August 16th at the 4-H building at the Fairgrounds and displayed on/near animal pens or cages. \nExtension Office Hours:\nMonday – Friday \n8:00 am – 5:00 pm \n 
URL:https://extension.wsu.edu/grant/event/4-h-education-poster-pick-up/
LOCATION:WSU Extension Office\, 1525 E Wheeler Rd\, Moses Lake\, WA\, 98837\, United States
CATEGORIES:4-H
GEO:47.1301592;-119.2503273
X-APPLE-STRUCTURED-LOCATION;VALUE=URI;X-ADDRESS=WSU Extension Office 1525 E Wheeler Rd Moses Lake WA 98837 United States;X-APPLE-RADIUS=500;X-TITLE=1525 E Wheeler Rd:geo:-119.2503273,47.1301592
END:VEVENT
BEGIN:VEVENT
DTSTART;TZID=America/Los_Angeles:20240118T180000
DTEND;TZID=America/Los_Angeles:20240118T193000
DTSTAMP:20260423T005958
CREATED:20240104T002204Z
LAST-MODIFIED:20240104T002204Z
UID:10000149-1705600800-1705606200@extension.wsu.edu
SUMMARY:Gathering the Flock - Let's Meet Ewe
DESCRIPTION:The Columbia Basin Sheep Producers in collaboration with WSU Grant and Adams County Extension Offices are offering area sheep producers an opportunity to come together to meet each other and participate in a webinar about the countdown to lambing and newborn care\, club lamb fungus\, and WSU disease diagnostics by Guest Presenter: Dr. Melissa Holahan\, DVM\, WSU Post-Doc. In addition\, the CBSP will provide a pizza/sub dinner to participants. \nPlease RSVP by January 16 at 5:00 PM so that we can make sure we have enough pizza/subs. RSVP to Sarah M. Smith\, WSU Extension at smithsm@wsu.edu or 509-754-2011 X4363. \n**TWO LOCATIONS:\nAt 6:00 PM\n WSU Grant County Extension 1525 E Wheeler Rd\, Moses Lake\, WA 98837\n WSU Adams County Extension 205 W. Main\, Ritzville\, WA 99169 \nSponsored by:\nColumbia Basin Sheep Producers and WSU Grant and Adams County Extension. \n  \nEvent Information PDF
URL:https://extension.wsu.edu/grant/event/gathering-the-flock-lets-meet-ewe/
LOCATION:WSU Extension Office\, 1525 E Wheeler Rd\, Moses Lake\, WA\, 98837\, United States
CATEGORIES:Livestock
ORGANIZER;CN="Sarah%20Smith":MAILTO:smithsm@wsu.edu
GEO:47.1301592;-119.2503273
X-APPLE-STRUCTURED-LOCATION;VALUE=URI;X-ADDRESS=WSU Extension Office 1525 E Wheeler Rd Moses Lake WA 98837 United States;X-APPLE-RADIUS=500;X-TITLE=1525 E Wheeler Rd:geo:-119.2503273,47.1301592
END:VEVENT
END:VCALENDAR