BEGIN:VCALENDAR
VERSION:2.0
PRODID:-//Grays Harbor County - ECPv6.1.3//NONSGML v1.0//EN
CALSCALE:GREGORIAN
METHOD:PUBLISH
X-WR-CALNAME:Grays Harbor County
X-ORIGINAL-URL:https://extension.wsu.edu/graysharbor
X-WR-CALDESC:Events for Grays Harbor County
REFRESH-INTERVAL;VALUE=DURATION:PT1H
X-Robots-Tag:noindex
X-PUBLISHED-TTL:PT1H
BEGIN:VTIMEZONE
TZID:America/Los_Angeles
BEGIN:DAYLIGHT
TZOFFSETFROM:-0800
TZOFFSETTO:-0700
TZNAME:PDT
DTSTART:20210314T100000
END:DAYLIGHT
BEGIN:STANDARD
TZOFFSETFROM:-0700
TZOFFSETTO:-0800
TZNAME:PST
DTSTART:20211107T090000
END:STANDARD
BEGIN:DAYLIGHT
TZOFFSETFROM:-0800
TZOFFSETTO:-0700
TZNAME:PDT
DTSTART:20220313T100000
END:DAYLIGHT
BEGIN:STANDARD
TZOFFSETFROM:-0700
TZOFFSETTO:-0800
TZNAME:PST
DTSTART:20221106T090000
END:STANDARD
BEGIN:DAYLIGHT
TZOFFSETFROM:-0800
TZOFFSETTO:-0700
TZNAME:PDT
DTSTART:20230312T100000
END:DAYLIGHT
BEGIN:STANDARD
TZOFFSETFROM:-0700
TZOFFSETTO:-0800
TZNAME:PST
DTSTART:20231105T090000
END:STANDARD
BEGIN:DAYLIGHT
TZOFFSETFROM:-0800
TZOFFSETTO:-0700
TZNAME:PDT
DTSTART:20240310T100000
END:DAYLIGHT
BEGIN:STANDARD
TZOFFSETFROM:-0700
TZOFFSETTO:-0800
TZNAME:PST
DTSTART:20241103T090000
END:STANDARD
BEGIN:DAYLIGHT
TZOFFSETFROM:-0800
TZOFFSETTO:-0700
TZNAME:PDT
DTSTART:20250309T100000
END:DAYLIGHT
BEGIN:STANDARD
TZOFFSETFROM:-0700
TZOFFSETTO:-0800
TZNAME:PST
DTSTART:20251102T090000
END:STANDARD
END:VTIMEZONE
BEGIN:VEVENT
DTSTART;TZID=America/Los_Angeles:20210501T100000
DTEND;TZID=America/Los_Angeles:20210501T140000
DTSTAMP:20260423T095750
CREATED:20210429T204506Z
LAST-MODIFIED:20210429T204506Z
UID:10003379-1619863200-1619877600@extension.wsu.edu
SUMMARY:Colorful Blooming Planters for Sale
DESCRIPTION:The WSU Master Gardeners of Grays Harbor and Pacific Counties are offering a large selection of beautiful blooming planters for sale.  Planters are made of cedar and galvanized metal detail. There are flowering\, herb and vegetable combinations. $45 each. \nAlso unique flowering baskets planted in nautical floats. \nPerfect gifts for May Day\, Mother’s Day or any other occasion.  \nSale is May Day Weekend at the greenhouse at 86 Rustemeyer Road off Highway 105 just west of the Westport Winery. Saturday May 1 hours are 9:00am to 4pm.  Sunday hours are 10:am-2:00pm. Sale is outdoors but masks are required. \nSale also will be at Garden by the Sea in Ocean Shore on the day before Mother’s Day\, Saturday May 8 — hours are 9:00am-3:00pm. \nProceeds of the sale benefit the WSU Master Gardeners of Grays Harbor and Pacific Counties.
URL:https://extension.wsu.edu/graysharbor/event/colorful-blooming-planters-for-sale/2021-05-01/
LOCATION:Planter Sale\, 86 Rustemeyer Road\, Aberdeen\, WA\, 98520\, United States
GEO:46.9195293;-123.9811237
X-APPLE-STRUCTURED-LOCATION;VALUE=URI;X-ADDRESS=Planter Sale 86 Rustemeyer Road Aberdeen WA 98520 United States;X-APPLE-RADIUS=500;X-TITLE=86 Rustemeyer Road:geo:-123.9811237,46.9195293
END:VEVENT
BEGIN:VEVENT
DTSTART;TZID=America/Los_Angeles:20210502T100000
DTEND;TZID=America/Los_Angeles:20210502T140000
DTSTAMP:20260423T095750
CREATED:20210429T204506Z
LAST-MODIFIED:20210429T204506Z
UID:10003380-1619949600-1619964000@extension.wsu.edu
SUMMARY:Colorful Blooming Planters for Sale
DESCRIPTION:The WSU Master Gardeners of Grays Harbor and Pacific Counties are offering a large selection of beautiful blooming planters for sale.  Planters are made of cedar and galvanized metal detail. There are flowering\, herb and vegetable combinations. $45 each. \nAlso unique flowering baskets planted in nautical floats. \nPerfect gifts for May Day\, Mother’s Day or any other occasion.  \nSale is May Day Weekend at the greenhouse at 86 Rustemeyer Road off Highway 105 just west of the Westport Winery. Saturday May 1 hours are 9:00am to 4pm.  Sunday hours are 10:am-2:00pm. Sale is outdoors but masks are required. \nSale also will be at Garden by the Sea in Ocean Shore on the day before Mother’s Day\, Saturday May 8 — hours are 9:00am-3:00pm. \nProceeds of the sale benefit the WSU Master Gardeners of Grays Harbor and Pacific Counties.
URL:https://extension.wsu.edu/graysharbor/event/colorful-blooming-planters-for-sale/2021-05-02/
LOCATION:Planter Sale\, 86 Rustemeyer Road\, Aberdeen\, WA\, 98520\, United States
GEO:46.9195293;-123.9811237
X-APPLE-STRUCTURED-LOCATION;VALUE=URI;X-ADDRESS=Planter Sale 86 Rustemeyer Road Aberdeen WA 98520 United States;X-APPLE-RADIUS=500;X-TITLE=86 Rustemeyer Road:geo:-123.9811237,46.9195293
END:VEVENT
BEGIN:VEVENT
DTSTART;TZID=America/Los_Angeles:20230513T090000
DTEND;TZID=America/Los_Angeles:20230513T160000
DTSTAMP:20260423T095750
CREATED:20230503T010806Z
LAST-MODIFIED:20230503T010806Z
UID:10003408-1683968400-1683993600@extension.wsu.edu
SUMMARY:Spring Planter Sale - Rustmeyer Road - May 13\, 2023
DESCRIPTION:Blooming Cedar Planters for Sale!\nJust in time for Mother’s Day\, our signature stylish planters in cedar and galvanized metal will be for sale at two locations.\nPriced at $50\, all are designed and crafted by Kelly Rupp. Each is planted with unique combinations of colorful blooming\nannuals\, perennials\, bulbs\, herbs and even some with salad vegetables. There will be hanging basket styles\, too. \nSaturday\, May 13\, 2023\n9:00 am – 4:00 pm\nGreenhouse at 86 Rustemeyer Road\n(Off Hwy.105 between Aberdeen & Westport\, just west of Westport Winery and Lily Lane) \nAlso planters will be for sale at Garden By The Sea\, a community garden in Ocean Shores\, on Saturday May 13 from 10:00am to 3:00pm. \nGarden By the Sea\, Ocean Shores\n824 Ocean Shores Blvd. NW\n(behind ‘Granny’s Tugboat Childcare’ and Galilean Lutheran Church) \nProceeds support The WSU Extension Master Gardener Program including education workshops for adults and children\, plant clinics\, demonstration gardens and beds and all our other activities in both Grays Harbor and Pacific Counties. \n  \nWSU Extension programs and employment are available without discrimination. Evidence of noncompliance may be reported through your local WSU Extension office.
URL:https://extension.wsu.edu/graysharbor/event/spring-planter-sale-rustmeyer-5-23/
LOCATION:Planter Sale\, 86 Rustemeyer Road\, Aberdeen\, WA\, 98520\, United States
ORGANIZER;CN="Master%20Gardeners%20of%20Grays%20Harbor%20and%20Pacific%20Counties":MAILTO:koehler@wsu.edu
GEO:46.9195293;-123.9811237
X-APPLE-STRUCTURED-LOCATION;VALUE=URI;X-ADDRESS=Planter Sale 86 Rustemeyer Road Aberdeen WA 98520 United States;X-APPLE-RADIUS=500;X-TITLE=86 Rustemeyer Road:geo:-123.9811237,46.9195293
END:VEVENT
BEGIN:VEVENT
DTSTART;TZID=America/Los_Angeles:20250510T090000
DTEND;TZID=America/Los_Angeles:20250510T160000
DTSTAMP:20260423T095750
CREATED:20250410T062730Z
LAST-MODIFIED:20250410T062730Z
UID:10003443-1746867600-1746892800@extension.wsu.edu
SUMMARY:Spring Planter Sale - Rustemeyer Road
DESCRIPTION:Master Gardener Blooming Planter Sale\non May 10\, 2025\nRustemeyer Rd or Ocean Shores\nColorful flowers in wood and metal planters \nBlooming Cedar Planters for Sale!\nJust in time for Mother’s Day\, our signature stylish planters in cedar and galvanized metal will be for sale at two locations. These planters are priced between $40 to $60\, depending on sizes and styles. There are three styles of planters—medium\, tall and “toolbox” and hanging baskets\, too. Each is planted with unique combinations of colorful blooming annuals\, perennials\, bulbs\, herbs and even some with salad vegetables. \nGreenhouse at 86 Rustemeyer Road – 9:00 am – 4:00 pm\n(Off Hwy.105 between Aberdeen & Westport\, just west of Westport Winery and Lily Lane) \nAlso planters will be for sale at Garden By The Sea\, a community garden in Ocean Shores\, on Saturday May 10 from 10:00am to 3:00pm.\nGarden By the Sea\, Ocean Shores\n824 Ocean Shores Blvd. NW\n(behind ‘Granny’s Tugboat Childcare’ and Galilean Lutheran Church) \nProceeds support The WSU Extension Master Gardener Program including education workshops for adults and children\, plant clinics\, demonstration gardens and beds and all our other activities in both Grays Harbor and Pacific Counties. \nWSU Extension programs and employment are available without discrimination. Evidence of noncompliance may be reported through your local WSU Extension office.
URL:https://extension.wsu.edu/graysharbor/event/spring-planter-sale-rustemeyer-road/
LOCATION:Planter Sale\, 86 Rustemeyer Road\, Aberdeen\, WA\, 98520\, United States
CATEGORIES:Master Gardener
ORGANIZER;CN="Master%20Gardeners%20of%20Grays%20Harbor%20and%20Pacific%20Counties":MAILTO:koehler@wsu.edu
GEO:46.9195293;-123.9811237
X-APPLE-STRUCTURED-LOCATION;VALUE=URI;X-ADDRESS=Planter Sale 86 Rustemeyer Road Aberdeen WA 98520 United States;X-APPLE-RADIUS=500;X-TITLE=86 Rustemeyer Road:geo:-123.9811237,46.9195293
END:VEVENT
END:VCALENDAR