BEGIN:VCALENDAR
VERSION:2.0
PRODID:-//Grays Harbor County - ECPv6.1.3//NONSGML v1.0//EN
CALSCALE:GREGORIAN
METHOD:PUBLISH
X-ORIGINAL-URL:https://extension.wsu.edu/graysharbor
X-WR-CALDESC:Events for Grays Harbor County
REFRESH-INTERVAL;VALUE=DURATION:PT1H
X-Robots-Tag:noindex
X-PUBLISHED-TTL:PT1H
BEGIN:VTIMEZONE
TZID:America/Los_Angeles
BEGIN:DAYLIGHT
TZOFFSETFROM:-0800
TZOFFSETTO:-0700
TZNAME:PDT
DTSTART:20160313T100000
END:DAYLIGHT
BEGIN:STANDARD
TZOFFSETFROM:-0700
TZOFFSETTO:-0800
TZNAME:PST
DTSTART:20161106T090000
END:STANDARD
END:VTIMEZONE
BEGIN:VEVENT
DTSTART;VALUE=DATE:20160130
DTEND;VALUE=DATE:20160131
DTSTAMP:20260420T120352
CREATED:20150921T230626Z
LAST-MODIFIED:20150921T230626Z
UID:10000045-1454112000-1454198399@extension.wsu.edu
SUMMARY:4-H Volunteer Education - Essentials
DESCRIPTION:Are you interested in becoming a 4-H volunteer in Grays Harbor or Mason County?\nAre you a volunteer leader who would like to update your youth development knowledge & skills?\nDo you know other adults who would like to get connected with the 4-H Youth Development Program?\nPlan to attend these volunteer education sessions and invite others to join you!\nThese sessions are helpful for all new and returning volunteers\, club leaders and council officers.\nPick the session or sessions that fit your needs.\nJoin us in either Mason or Grays Harbor and energize yourself!\nRSVP to Tracie 360-482-2934 or tracie.hanson@wsu.edu to confirm the scheduled date and time.
URL:https://extension.wsu.edu/graysharbor/event/4-h-volunteer-education-essentials-2/2016-01-30/
LOCATION:Unnamed Venue\, shelton\, WA\, 98584\, United States
CATEGORIES:4-H,Community
GEO:47.2150945;-123.1007066
END:VEVENT
END:VCALENDAR