BEGIN:VCALENDAR
VERSION:2.0
PRODID:-//Island County - ECPv6.1.3//NONSGML v1.0//EN
CALSCALE:GREGORIAN
METHOD:PUBLISH
X-WR-CALNAME:Island County
X-ORIGINAL-URL:https://extension.wsu.edu/island
X-WR-CALDESC:Events for Island County
REFRESH-INTERVAL;VALUE=DURATION:PT1H
X-Robots-Tag:noindex
X-PUBLISHED-TTL:PT1H
BEGIN:VTIMEZONE
TZID:America/Los_Angeles
BEGIN:DAYLIGHT
TZOFFSETFROM:-0800
TZOFFSETTO:-0700
TZNAME:PDT
DTSTART:20260308T100000
END:DAYLIGHT
BEGIN:STANDARD
TZOFFSETFROM:-0700
TZOFFSETTO:-0800
TZNAME:PST
DTSTART:20261101T090000
END:STANDARD
BEGIN:DAYLIGHT
TZOFFSETFROM:-0800
TZOFFSETTO:-0700
TZNAME:PDT
DTSTART:20270314T100000
END:DAYLIGHT
BEGIN:STANDARD
TZOFFSETFROM:-0700
TZOFFSETTO:-0800
TZNAME:PST
DTSTART:20271107T090000
END:STANDARD
END:VTIMEZONE
BEGIN:VEVENT
DTSTART;TZID=America/Los_Angeles:20260504T120000
DTEND;TZID=America/Los_Angeles:20260504T130000
DTSTAMP:20260423T014634
CREATED:20260422T170448Z
LAST-MODIFIED:20260422T170448Z
UID:10001444-1777896000-1777899600@extension.wsu.edu
SUMMARY:WSU WASTE WIDE COMMUNITY MEETING
DESCRIPTION:12 – 1 pm at the Camano Island Library. Join local folks interested in educating ourselves and our community on ways to live a simpler and more affordable lifestyle that also benefits the planet. This group meets on the 1st Monday of each month and is open to all ages 15+.
URL:https://extension.wsu.edu/island/event/wsu-waste-wide-community-meeting/2026-05-04/
LOCATION:Camano Multi-Purpose Center (Blue Building)\, 141 NE Camano Drive\, Camano\, WA\, 98282\, United States
ORGANIZER;CN="Heather%20Vitiaz":MAILTO:heather.vitiaz@wsu.edu
GEO:48.2160854;-122.4782288
X-APPLE-STRUCTURED-LOCATION;VALUE=URI;X-ADDRESS=Camano Multi-Purpose Center (Blue Building) 141 NE Camano Drive Camano WA 98282 United States;X-APPLE-RADIUS=500;X-TITLE=141 NE Camano Drive:geo:-122.4782288,48.2160854
END:VEVENT
BEGIN:VEVENT
DTSTART;TZID=America/Los_Angeles:20260511T121500
DTEND;TZID=America/Los_Angeles:20260511T131500
DTSTAMP:20260423T014634
CREATED:20260422T171244Z
LAST-MODIFIED:20260422T171245Z
UID:10001454-1778501700-1778505300@extension.wsu.edu
SUMMARY:WSU ECO BOOK & DISCUSSION GROUP
DESCRIPTION:12:15 – 1:15 pm at the Camano Island Library meets on the 2nd Monday of each month.  See the website for the current book up for discussion. This is an engaging way to learn\, grow\, and share with your community. Group is open to all – ages 15+
URL:https://extension.wsu.edu/island/event/wsu-eco-book-discussion-group/2026-05-11/
LOCATION:Camano Multi-Purpose Center (Blue Building)\, 141 NE Camano Drive\, Camano\, WA\, 98282\, United States
ORGANIZER;CN="Heather%20Vitiaz":MAILTO:heather.vitiaz@wsu.edu
GEO:48.2160854;-122.4782288
X-APPLE-STRUCTURED-LOCATION;VALUE=URI;X-ADDRESS=Camano Multi-Purpose Center (Blue Building) 141 NE Camano Drive Camano WA 98282 United States;X-APPLE-RADIUS=500;X-TITLE=141 NE Camano Drive:geo:-122.4782288,48.2160854
END:VEVENT
BEGIN:VEVENT
DTSTART;TZID=America/Los_Angeles:20260601T120000
DTEND;TZID=America/Los_Angeles:20260601T130000
DTSTAMP:20260423T014634
CREATED:20260422T170448Z
LAST-MODIFIED:20260422T170448Z
UID:10001445-1780315200-1780318800@extension.wsu.edu
SUMMARY:WSU WASTE WIDE COMMUNITY MEETING
DESCRIPTION:12 – 1 pm at the Camano Island Library. Join local folks interested in educating ourselves and our community on ways to live a simpler and more affordable lifestyle that also benefits the planet. This group meets on the 1st Monday of each month and is open to all ages 15+.
URL:https://extension.wsu.edu/island/event/wsu-waste-wide-community-meeting/2026-06-01/
LOCATION:Camano Multi-Purpose Center (Blue Building)\, 141 NE Camano Drive\, Camano\, WA\, 98282\, United States
ORGANIZER;CN="Heather%20Vitiaz":MAILTO:heather.vitiaz@wsu.edu
GEO:48.2160854;-122.4782288
X-APPLE-STRUCTURED-LOCATION;VALUE=URI;X-ADDRESS=Camano Multi-Purpose Center (Blue Building) 141 NE Camano Drive Camano WA 98282 United States;X-APPLE-RADIUS=500;X-TITLE=141 NE Camano Drive:geo:-122.4782288,48.2160854
END:VEVENT
BEGIN:VEVENT
DTSTART;TZID=America/Los_Angeles:20260608T121500
DTEND;TZID=America/Los_Angeles:20260608T131500
DTSTAMP:20260423T014634
CREATED:20260422T171244Z
LAST-MODIFIED:20260422T171245Z
UID:10001455-1780920900-1780924500@extension.wsu.edu
SUMMARY:WSU ECO BOOK & DISCUSSION GROUP
DESCRIPTION:12:15 – 1:15 pm at the Camano Island Library meets on the 2nd Monday of each month.  See the website for the current book up for discussion. This is an engaging way to learn\, grow\, and share with your community. Group is open to all – ages 15+
URL:https://extension.wsu.edu/island/event/wsu-eco-book-discussion-group/2026-06-08/
LOCATION:Camano Multi-Purpose Center (Blue Building)\, 141 NE Camano Drive\, Camano\, WA\, 98282\, United States
ORGANIZER;CN="Heather%20Vitiaz":MAILTO:heather.vitiaz@wsu.edu
GEO:48.2160854;-122.4782288
X-APPLE-STRUCTURED-LOCATION;VALUE=URI;X-ADDRESS=Camano Multi-Purpose Center (Blue Building) 141 NE Camano Drive Camano WA 98282 United States;X-APPLE-RADIUS=500;X-TITLE=141 NE Camano Drive:geo:-122.4782288,48.2160854
END:VEVENT
BEGIN:VEVENT
DTSTART;TZID=America/Los_Angeles:20260706T120000
DTEND;TZID=America/Los_Angeles:20260706T130000
DTSTAMP:20260423T014634
CREATED:20260422T170448Z
LAST-MODIFIED:20260422T170448Z
UID:10001446-1783339200-1783342800@extension.wsu.edu
SUMMARY:WSU WASTE WIDE COMMUNITY MEETING
DESCRIPTION:12 – 1 pm at the Camano Island Library. Join local folks interested in educating ourselves and our community on ways to live a simpler and more affordable lifestyle that also benefits the planet. This group meets on the 1st Monday of each month and is open to all ages 15+.
URL:https://extension.wsu.edu/island/event/wsu-waste-wide-community-meeting/2026-07-06/
LOCATION:Camano Multi-Purpose Center (Blue Building)\, 141 NE Camano Drive\, Camano\, WA\, 98282\, United States
ORGANIZER;CN="Heather%20Vitiaz":MAILTO:heather.vitiaz@wsu.edu
GEO:48.2160854;-122.4782288
X-APPLE-STRUCTURED-LOCATION;VALUE=URI;X-ADDRESS=Camano Multi-Purpose Center (Blue Building) 141 NE Camano Drive Camano WA 98282 United States;X-APPLE-RADIUS=500;X-TITLE=141 NE Camano Drive:geo:-122.4782288,48.2160854
END:VEVENT
BEGIN:VEVENT
DTSTART;TZID=America/Los_Angeles:20260713T121500
DTEND;TZID=America/Los_Angeles:20260713T131500
DTSTAMP:20260423T014634
CREATED:20260422T171244Z
LAST-MODIFIED:20260422T171245Z
UID:10001456-1783944900-1783948500@extension.wsu.edu
SUMMARY:WSU ECO BOOK & DISCUSSION GROUP
DESCRIPTION:12:15 – 1:15 pm at the Camano Island Library meets on the 2nd Monday of each month.  See the website for the current book up for discussion. This is an engaging way to learn\, grow\, and share with your community. Group is open to all – ages 15+
URL:https://extension.wsu.edu/island/event/wsu-eco-book-discussion-group/2026-07-13/
LOCATION:Camano Multi-Purpose Center (Blue Building)\, 141 NE Camano Drive\, Camano\, WA\, 98282\, United States
ORGANIZER;CN="Heather%20Vitiaz":MAILTO:heather.vitiaz@wsu.edu
GEO:48.2160854;-122.4782288
X-APPLE-STRUCTURED-LOCATION;VALUE=URI;X-ADDRESS=Camano Multi-Purpose Center (Blue Building) 141 NE Camano Drive Camano WA 98282 United States;X-APPLE-RADIUS=500;X-TITLE=141 NE Camano Drive:geo:-122.4782288,48.2160854
END:VEVENT
BEGIN:VEVENT
DTSTART;TZID=America/Los_Angeles:20260803T120000
DTEND;TZID=America/Los_Angeles:20260803T130000
DTSTAMP:20260423T014634
CREATED:20260422T170448Z
LAST-MODIFIED:20260422T170448Z
UID:10001447-1785758400-1785762000@extension.wsu.edu
SUMMARY:WSU WASTE WIDE COMMUNITY MEETING
DESCRIPTION:12 – 1 pm at the Camano Island Library. Join local folks interested in educating ourselves and our community on ways to live a simpler and more affordable lifestyle that also benefits the planet. This group meets on the 1st Monday of each month and is open to all ages 15+.
URL:https://extension.wsu.edu/island/event/wsu-waste-wide-community-meeting/2026-08-03/
LOCATION:Camano Multi-Purpose Center (Blue Building)\, 141 NE Camano Drive\, Camano\, WA\, 98282\, United States
ORGANIZER;CN="Heather%20Vitiaz":MAILTO:heather.vitiaz@wsu.edu
GEO:48.2160854;-122.4782288
X-APPLE-STRUCTURED-LOCATION;VALUE=URI;X-ADDRESS=Camano Multi-Purpose Center (Blue Building) 141 NE Camano Drive Camano WA 98282 United States;X-APPLE-RADIUS=500;X-TITLE=141 NE Camano Drive:geo:-122.4782288,48.2160854
END:VEVENT
BEGIN:VEVENT
DTSTART;TZID=America/Los_Angeles:20260810T121500
DTEND;TZID=America/Los_Angeles:20260810T131500
DTSTAMP:20260423T014634
CREATED:20260422T171244Z
LAST-MODIFIED:20260422T171245Z
UID:10001457-1786364100-1786367700@extension.wsu.edu
SUMMARY:WSU ECO BOOK & DISCUSSION GROUP
DESCRIPTION:12:15 – 1:15 pm at the Camano Island Library meets on the 2nd Monday of each month.  See the website for the current book up for discussion. This is an engaging way to learn\, grow\, and share with your community. Group is open to all – ages 15+
URL:https://extension.wsu.edu/island/event/wsu-eco-book-discussion-group/2026-08-10/
LOCATION:Camano Multi-Purpose Center (Blue Building)\, 141 NE Camano Drive\, Camano\, WA\, 98282\, United States
ORGANIZER;CN="Heather%20Vitiaz":MAILTO:heather.vitiaz@wsu.edu
GEO:48.2160854;-122.4782288
X-APPLE-STRUCTURED-LOCATION;VALUE=URI;X-ADDRESS=Camano Multi-Purpose Center (Blue Building) 141 NE Camano Drive Camano WA 98282 United States;X-APPLE-RADIUS=500;X-TITLE=141 NE Camano Drive:geo:-122.4782288,48.2160854
END:VEVENT
BEGIN:VEVENT
DTSTART;TZID=America/Los_Angeles:20260907T120000
DTEND;TZID=America/Los_Angeles:20260907T130000
DTSTAMP:20260423T014634
CREATED:20260422T170448Z
LAST-MODIFIED:20260422T170448Z
UID:10001448-1788782400-1788786000@extension.wsu.edu
SUMMARY:WSU WASTE WIDE COMMUNITY MEETING
DESCRIPTION:12 – 1 pm at the Camano Island Library. Join local folks interested in educating ourselves and our community on ways to live a simpler and more affordable lifestyle that also benefits the planet. This group meets on the 1st Monday of each month and is open to all ages 15+.
URL:https://extension.wsu.edu/island/event/wsu-waste-wide-community-meeting/2026-09-07/
LOCATION:Camano Multi-Purpose Center (Blue Building)\, 141 NE Camano Drive\, Camano\, WA\, 98282\, United States
ORGANIZER;CN="Heather%20Vitiaz":MAILTO:heather.vitiaz@wsu.edu
GEO:48.2160854;-122.4782288
X-APPLE-STRUCTURED-LOCATION;VALUE=URI;X-ADDRESS=Camano Multi-Purpose Center (Blue Building) 141 NE Camano Drive Camano WA 98282 United States;X-APPLE-RADIUS=500;X-TITLE=141 NE Camano Drive:geo:-122.4782288,48.2160854
END:VEVENT
BEGIN:VEVENT
DTSTART;TZID=America/Los_Angeles:20260914T121500
DTEND;TZID=America/Los_Angeles:20260914T131500
DTSTAMP:20260423T014634
CREATED:20260422T171244Z
LAST-MODIFIED:20260422T171245Z
UID:10001458-1789388100-1789391700@extension.wsu.edu
SUMMARY:WSU ECO BOOK & DISCUSSION GROUP
DESCRIPTION:12:15 – 1:15 pm at the Camano Island Library meets on the 2nd Monday of each month.  See the website for the current book up for discussion. This is an engaging way to learn\, grow\, and share with your community. Group is open to all – ages 15+
URL:https://extension.wsu.edu/island/event/wsu-eco-book-discussion-group/2026-09-14/
LOCATION:Camano Multi-Purpose Center (Blue Building)\, 141 NE Camano Drive\, Camano\, WA\, 98282\, United States
ORGANIZER;CN="Heather%20Vitiaz":MAILTO:heather.vitiaz@wsu.edu
GEO:48.2160854;-122.4782288
X-APPLE-STRUCTURED-LOCATION;VALUE=URI;X-ADDRESS=Camano Multi-Purpose Center (Blue Building) 141 NE Camano Drive Camano WA 98282 United States;X-APPLE-RADIUS=500;X-TITLE=141 NE Camano Drive:geo:-122.4782288,48.2160854
END:VEVENT
BEGIN:VEVENT
DTSTART;TZID=America/Los_Angeles:20261005T120000
DTEND;TZID=America/Los_Angeles:20261005T130000
DTSTAMP:20260423T014634
CREATED:20260422T170448Z
LAST-MODIFIED:20260422T170448Z
UID:10001449-1791201600-1791205200@extension.wsu.edu
SUMMARY:WSU WASTE WIDE COMMUNITY MEETING
DESCRIPTION:12 – 1 pm at the Camano Island Library. Join local folks interested in educating ourselves and our community on ways to live a simpler and more affordable lifestyle that also benefits the planet. This group meets on the 1st Monday of each month and is open to all ages 15+.
URL:https://extension.wsu.edu/island/event/wsu-waste-wide-community-meeting/2026-10-05/
LOCATION:Camano Multi-Purpose Center (Blue Building)\, 141 NE Camano Drive\, Camano\, WA\, 98282\, United States
ORGANIZER;CN="Heather%20Vitiaz":MAILTO:heather.vitiaz@wsu.edu
GEO:48.2160854;-122.4782288
X-APPLE-STRUCTURED-LOCATION;VALUE=URI;X-ADDRESS=Camano Multi-Purpose Center (Blue Building) 141 NE Camano Drive Camano WA 98282 United States;X-APPLE-RADIUS=500;X-TITLE=141 NE Camano Drive:geo:-122.4782288,48.2160854
END:VEVENT
BEGIN:VEVENT
DTSTART;TZID=America/Los_Angeles:20261012T121500
DTEND;TZID=America/Los_Angeles:20261012T131500
DTSTAMP:20260423T014634
CREATED:20260422T171244Z
LAST-MODIFIED:20260422T171245Z
UID:10001459-1791807300-1791810900@extension.wsu.edu
SUMMARY:WSU ECO BOOK & DISCUSSION GROUP
DESCRIPTION:12:15 – 1:15 pm at the Camano Island Library meets on the 2nd Monday of each month.  See the website for the current book up for discussion. This is an engaging way to learn\, grow\, and share with your community. Group is open to all – ages 15+
URL:https://extension.wsu.edu/island/event/wsu-eco-book-discussion-group/2026-10-12/
LOCATION:Camano Multi-Purpose Center (Blue Building)\, 141 NE Camano Drive\, Camano\, WA\, 98282\, United States
ORGANIZER;CN="Heather%20Vitiaz":MAILTO:heather.vitiaz@wsu.edu
GEO:48.2160854;-122.4782288
X-APPLE-STRUCTURED-LOCATION;VALUE=URI;X-ADDRESS=Camano Multi-Purpose Center (Blue Building) 141 NE Camano Drive Camano WA 98282 United States;X-APPLE-RADIUS=500;X-TITLE=141 NE Camano Drive:geo:-122.4782288,48.2160854
END:VEVENT
BEGIN:VEVENT
DTSTART;TZID=America/Los_Angeles:20261102T120000
DTEND;TZID=America/Los_Angeles:20261102T130000
DTSTAMP:20260423T014634
CREATED:20260422T170448Z
LAST-MODIFIED:20260422T170448Z
UID:10001450-1793620800-1793624400@extension.wsu.edu
SUMMARY:WSU WASTE WIDE COMMUNITY MEETING
DESCRIPTION:12 – 1 pm at the Camano Island Library. Join local folks interested in educating ourselves and our community on ways to live a simpler and more affordable lifestyle that also benefits the planet. This group meets on the 1st Monday of each month and is open to all ages 15+.
URL:https://extension.wsu.edu/island/event/wsu-waste-wide-community-meeting/2026-11-02/
LOCATION:Camano Multi-Purpose Center (Blue Building)\, 141 NE Camano Drive\, Camano\, WA\, 98282\, United States
ORGANIZER;CN="Heather%20Vitiaz":MAILTO:heather.vitiaz@wsu.edu
GEO:48.2160854;-122.4782288
X-APPLE-STRUCTURED-LOCATION;VALUE=URI;X-ADDRESS=Camano Multi-Purpose Center (Blue Building) 141 NE Camano Drive Camano WA 98282 United States;X-APPLE-RADIUS=500;X-TITLE=141 NE Camano Drive:geo:-122.4782288,48.2160854
END:VEVENT
BEGIN:VEVENT
DTSTART;TZID=America/Los_Angeles:20261109T121500
DTEND;TZID=America/Los_Angeles:20261109T131500
DTSTAMP:20260423T014634
CREATED:20260422T171244Z
LAST-MODIFIED:20260422T171245Z
UID:10001460-1794226500-1794230100@extension.wsu.edu
SUMMARY:WSU ECO BOOK & DISCUSSION GROUP
DESCRIPTION:12:15 – 1:15 pm at the Camano Island Library meets on the 2nd Monday of each month.  See the website for the current book up for discussion. This is an engaging way to learn\, grow\, and share with your community. Group is open to all – ages 15+
URL:https://extension.wsu.edu/island/event/wsu-eco-book-discussion-group/2026-11-09/
LOCATION:Camano Multi-Purpose Center (Blue Building)\, 141 NE Camano Drive\, Camano\, WA\, 98282\, United States
ORGANIZER;CN="Heather%20Vitiaz":MAILTO:heather.vitiaz@wsu.edu
GEO:48.2160854;-122.4782288
X-APPLE-STRUCTURED-LOCATION;VALUE=URI;X-ADDRESS=Camano Multi-Purpose Center (Blue Building) 141 NE Camano Drive Camano WA 98282 United States;X-APPLE-RADIUS=500;X-TITLE=141 NE Camano Drive:geo:-122.4782288,48.2160854
END:VEVENT
BEGIN:VEVENT
DTSTART;TZID=America/Los_Angeles:20261207T120000
DTEND;TZID=America/Los_Angeles:20261207T130000
DTSTAMP:20260423T014634
CREATED:20260422T170448Z
LAST-MODIFIED:20260422T170448Z
UID:10001451-1796644800-1796648400@extension.wsu.edu
SUMMARY:WSU WASTE WIDE COMMUNITY MEETING
DESCRIPTION:12 – 1 pm at the Camano Island Library. Join local folks interested in educating ourselves and our community on ways to live a simpler and more affordable lifestyle that also benefits the planet. This group meets on the 1st Monday of each month and is open to all ages 15+.
URL:https://extension.wsu.edu/island/event/wsu-waste-wide-community-meeting/2026-12-07/
LOCATION:Camano Multi-Purpose Center (Blue Building)\, 141 NE Camano Drive\, Camano\, WA\, 98282\, United States
ORGANIZER;CN="Heather%20Vitiaz":MAILTO:heather.vitiaz@wsu.edu
GEO:48.2160854;-122.4782288
X-APPLE-STRUCTURED-LOCATION;VALUE=URI;X-ADDRESS=Camano Multi-Purpose Center (Blue Building) 141 NE Camano Drive Camano WA 98282 United States;X-APPLE-RADIUS=500;X-TITLE=141 NE Camano Drive:geo:-122.4782288,48.2160854
END:VEVENT
BEGIN:VEVENT
DTSTART;TZID=America/Los_Angeles:20261214T121500
DTEND;TZID=America/Los_Angeles:20261214T131500
DTSTAMP:20260423T014634
CREATED:20260422T171244Z
LAST-MODIFIED:20260422T171245Z
UID:10001461-1797250500-1797254100@extension.wsu.edu
SUMMARY:WSU ECO BOOK & DISCUSSION GROUP
DESCRIPTION:12:15 – 1:15 pm at the Camano Island Library meets on the 2nd Monday of each month.  See the website for the current book up for discussion. This is an engaging way to learn\, grow\, and share with your community. Group is open to all – ages 15+
URL:https://extension.wsu.edu/island/event/wsu-eco-book-discussion-group/2026-12-14/
LOCATION:Camano Multi-Purpose Center (Blue Building)\, 141 NE Camano Drive\, Camano\, WA\, 98282\, United States
ORGANIZER;CN="Heather%20Vitiaz":MAILTO:heather.vitiaz@wsu.edu
GEO:48.2160854;-122.4782288
X-APPLE-STRUCTURED-LOCATION;VALUE=URI;X-ADDRESS=Camano Multi-Purpose Center (Blue Building) 141 NE Camano Drive Camano WA 98282 United States;X-APPLE-RADIUS=500;X-TITLE=141 NE Camano Drive:geo:-122.4782288,48.2160854
END:VEVENT
BEGIN:VEVENT
DTSTART;TZID=America/Los_Angeles:20270104T120000
DTEND;TZID=America/Los_Angeles:20270104T130000
DTSTAMP:20260423T014635
CREATED:20260422T170448Z
LAST-MODIFIED:20260422T170448Z
UID:10001452-1799064000-1799067600@extension.wsu.edu
SUMMARY:WSU WASTE WIDE COMMUNITY MEETING
DESCRIPTION:12 – 1 pm at the Camano Island Library. Join local folks interested in educating ourselves and our community on ways to live a simpler and more affordable lifestyle that also benefits the planet. This group meets on the 1st Monday of each month and is open to all ages 15+.
URL:https://extension.wsu.edu/island/event/wsu-waste-wide-community-meeting/2027-01-04/
LOCATION:Camano Multi-Purpose Center (Blue Building)\, 141 NE Camano Drive\, Camano\, WA\, 98282\, United States
ORGANIZER;CN="Heather%20Vitiaz":MAILTO:heather.vitiaz@wsu.edu
GEO:48.2160854;-122.4782288
X-APPLE-STRUCTURED-LOCATION;VALUE=URI;X-ADDRESS=Camano Multi-Purpose Center (Blue Building) 141 NE Camano Drive Camano WA 98282 United States;X-APPLE-RADIUS=500;X-TITLE=141 NE Camano Drive:geo:-122.4782288,48.2160854
END:VEVENT
BEGIN:VEVENT
DTSTART;TZID=America/Los_Angeles:20270111T121500
DTEND;TZID=America/Los_Angeles:20270111T131500
DTSTAMP:20260423T014635
CREATED:20260422T171244Z
LAST-MODIFIED:20260422T171245Z
UID:10001462-1799669700-1799673300@extension.wsu.edu
SUMMARY:WSU ECO BOOK & DISCUSSION GROUP
DESCRIPTION:12:15 – 1:15 pm at the Camano Island Library meets on the 2nd Monday of each month.  See the website for the current book up for discussion. This is an engaging way to learn\, grow\, and share with your community. Group is open to all – ages 15+
URL:https://extension.wsu.edu/island/event/wsu-eco-book-discussion-group/2027-01-11/
LOCATION:Camano Multi-Purpose Center (Blue Building)\, 141 NE Camano Drive\, Camano\, WA\, 98282\, United States
ORGANIZER;CN="Heather%20Vitiaz":MAILTO:heather.vitiaz@wsu.edu
GEO:48.2160854;-122.4782288
X-APPLE-STRUCTURED-LOCATION;VALUE=URI;X-ADDRESS=Camano Multi-Purpose Center (Blue Building) 141 NE Camano Drive Camano WA 98282 United States;X-APPLE-RADIUS=500;X-TITLE=141 NE Camano Drive:geo:-122.4782288,48.2160854
END:VEVENT
BEGIN:VEVENT
DTSTART;TZID=America/Los_Angeles:20270201T120000
DTEND;TZID=America/Los_Angeles:20270201T130000
DTSTAMP:20260423T014635
CREATED:20260422T170448Z
LAST-MODIFIED:20260422T170448Z
UID:10001453-1801483200-1801486800@extension.wsu.edu
SUMMARY:WSU WASTE WIDE COMMUNITY MEETING
DESCRIPTION:12 – 1 pm at the Camano Island Library. Join local folks interested in educating ourselves and our community on ways to live a simpler and more affordable lifestyle that also benefits the planet. This group meets on the 1st Monday of each month and is open to all ages 15+.
URL:https://extension.wsu.edu/island/event/wsu-waste-wide-community-meeting/2027-02-01/
LOCATION:Camano Multi-Purpose Center (Blue Building)\, 141 NE Camano Drive\, Camano\, WA\, 98282\, United States
ORGANIZER;CN="Heather%20Vitiaz":MAILTO:heather.vitiaz@wsu.edu
GEO:48.2160854;-122.4782288
X-APPLE-STRUCTURED-LOCATION;VALUE=URI;X-ADDRESS=Camano Multi-Purpose Center (Blue Building) 141 NE Camano Drive Camano WA 98282 United States;X-APPLE-RADIUS=500;X-TITLE=141 NE Camano Drive:geo:-122.4782288,48.2160854
END:VEVENT
BEGIN:VEVENT
DTSTART;TZID=America/Los_Angeles:20270208T121500
DTEND;TZID=America/Los_Angeles:20270208T131500
DTSTAMP:20260423T014635
CREATED:20260422T171244Z
LAST-MODIFIED:20260422T171245Z
UID:10001463-1802088900-1802092500@extension.wsu.edu
SUMMARY:WSU ECO BOOK & DISCUSSION GROUP
DESCRIPTION:12:15 – 1:15 pm at the Camano Island Library meets on the 2nd Monday of each month.  See the website for the current book up for discussion. This is an engaging way to learn\, grow\, and share with your community. Group is open to all – ages 15+
URL:https://extension.wsu.edu/island/event/wsu-eco-book-discussion-group/2027-02-08/
LOCATION:Camano Multi-Purpose Center (Blue Building)\, 141 NE Camano Drive\, Camano\, WA\, 98282\, United States
ORGANIZER;CN="Heather%20Vitiaz":MAILTO:heather.vitiaz@wsu.edu
GEO:48.2160854;-122.4782288
X-APPLE-STRUCTURED-LOCATION;VALUE=URI;X-ADDRESS=Camano Multi-Purpose Center (Blue Building) 141 NE Camano Drive Camano WA 98282 United States;X-APPLE-RADIUS=500;X-TITLE=141 NE Camano Drive:geo:-122.4782288,48.2160854
END:VEVENT
END:VCALENDAR