BEGIN:VCALENDAR
VERSION:2.0
PRODID:-//Lewis County - ECPv6.1.3//NONSGML v1.0//EN
CALSCALE:GREGORIAN
METHOD:PUBLISH
X-ORIGINAL-URL:https://extension.wsu.edu/lewis
X-WR-CALDESC:Events for Lewis County
REFRESH-INTERVAL;VALUE=DURATION:PT1H
X-Robots-Tag:noindex
X-PUBLISHED-TTL:PT1H
BEGIN:VTIMEZONE
TZID:America/Los_Angeles
BEGIN:DAYLIGHT
TZOFFSETFROM:-0800
TZOFFSETTO:-0700
TZNAME:PDT
DTSTART:20240310T100000
END:DAYLIGHT
BEGIN:STANDARD
TZOFFSETFROM:-0700
TZOFFSETTO:-0800
TZNAME:PST
DTSTART:20241103T090000
END:STANDARD
END:VTIMEZONE
BEGIN:VEVENT
DTSTART;TZID=America/Los_Angeles:20240316T100000
DTEND;TZID=America/Los_Angeles:20240316T140000
DTSTAMP:20260421T125907
CREATED:20240222T202739Z
LAST-MODIFIED:20240312T164412Z
UID:10000233-1710583200-1710597600@extension.wsu.edu
SUMMARY:Repair & Sustainability Fair
DESCRIPTION:
URL:https://extension.wsu.edu/lewis/event/repair-sustainability-fair/
LOCATION:Centralia College – Morton Campus\, 701 Airport Way\, Morton\, WA\, 98356\, United States
ORGANIZER;CN="WSU%20Lewis%20Co.%20Master%20Recycler%20Composters":MAILTO:jason.adams@lewiscountywa.gov
GEO:46.5514912;-122.2719086
X-APPLE-STRUCTURED-LOCATION;VALUE=URI;X-ADDRESS=Centralia College – Morton Campus 701 Airport Way Morton WA 98356 United States;X-APPLE-RADIUS=500;X-TITLE=701 Airport Way:geo:-122.2719086,46.5514912
END:VEVENT
BEGIN:VEVENT
DTSTART;TZID=America/Los_Angeles:20240316T140000
DTEND;TZID=America/Los_Angeles:20240316T153000
DTSTAMP:20260421T125907
CREATED:20240312T165220Z
LAST-MODIFIED:20240312T222429Z
UID:10000355-1710597600-1710603000@extension.wsu.edu
SUMMARY:Basic Home Composting
DESCRIPTION:
URL:https://extension.wsu.edu/lewis/event/basic-home-composting/
LOCATION:Centralia College – Morton Campus\, 701 Airport Way\, Morton\, WA\, 98356\, United States
ORGANIZER;CN="Jason%20Adams":MAILTO:jason.adams@lewiscountywa.gov
GEO:46.5514912;-122.2719086
X-APPLE-STRUCTURED-LOCATION;VALUE=URI;X-ADDRESS=Centralia College – Morton Campus 701 Airport Way Morton WA 98356 United States;X-APPLE-RADIUS=500;X-TITLE=701 Airport Way:geo:-122.2719086,46.5514912
END:VEVENT
END:VCALENDAR