BEGIN:VCALENDAR
VERSION:2.0
PRODID:-//Mason County - ECPv6.1.3//NONSGML v1.0//EN
CALSCALE:GREGORIAN
METHOD:PUBLISH
X-ORIGINAL-URL:https://extension.wsu.edu/mason
X-WR-CALDESC:Events for Mason County
REFRESH-INTERVAL;VALUE=DURATION:PT1H
X-Robots-Tag:noindex
X-PUBLISHED-TTL:PT1H
BEGIN:VTIMEZONE
TZID:America/Los_Angeles
BEGIN:DAYLIGHT
TZOFFSETFROM:-0800
TZOFFSETTO:-0700
TZNAME:PDT
DTSTART:20260308T100000
END:DAYLIGHT
BEGIN:STANDARD
TZOFFSETFROM:-0700
TZOFFSETTO:-0800
TZNAME:PST
DTSTART:20261101T090000
END:STANDARD
END:VTIMEZONE
BEGIN:VEVENT
DTSTART;TZID=America/Los_Angeles:20260618T160000
DTEND;TZID=America/Los_Angeles:20260618T183000
DTSTAMP:20260424T001308
CREATED:20260407T170729Z
LAST-MODIFIED:20260407T170754Z
UID:10003438-1781798400-1781807400@extension.wsu.edu
SUMMARY:Septic Summer!
DESCRIPTION:Learn how to keep your septic system running smoothly and protect the natural resources that make Mason County beautiful. \n2026 Workshop Offerings:\n\nJune 18th in Matlock\, 4:00PM – 6:30PM (Mary M. Knight School at 2987 Matlock-Brady Rd\, Elma WA).\nJuly 16th in Hoodsport\, 4:00PM – 6:30PM (Hoodsport Timberland Library at 40 N Schoolhouse Rd\, Hoodsport WA).\nAugust 13th in Belfair\, 4:00PM – 6:30PM (North Mason Timberland Library at 23081 WA-3\, Belfair WA).\n\nRegister at: mcsepticsummer2026.eventbrite.com
URL:https://extension.wsu.edu/mason/event/septic-summer/2026-06-18/
CATEGORIES:Agriculture,Water Resources
ORGANIZER;CN="WSU%20Mason%20County%20Small%20Farms":MAILTO:tessa.halloran@wsu.edu
END:VEVENT
BEGIN:VEVENT
DTSTART;TZID=America/Los_Angeles:20260716T160000
DTEND;TZID=America/Los_Angeles:20260716T183000
DTSTAMP:20260424T001308
CREATED:20260407T170729Z
LAST-MODIFIED:20260407T170754Z
UID:10003439-1784217600-1784226600@extension.wsu.edu
SUMMARY:Septic Summer!
DESCRIPTION:Learn how to keep your septic system running smoothly and protect the natural resources that make Mason County beautiful. \n2026 Workshop Offerings:\n\nJune 18th in Matlock\, 4:00PM – 6:30PM (Mary M. Knight School at 2987 Matlock-Brady Rd\, Elma WA).\nJuly 16th in Hoodsport\, 4:00PM – 6:30PM (Hoodsport Timberland Library at 40 N Schoolhouse Rd\, Hoodsport WA).\nAugust 13th in Belfair\, 4:00PM – 6:30PM (North Mason Timberland Library at 23081 WA-3\, Belfair WA).\n\nRegister at: mcsepticsummer2026.eventbrite.com
URL:https://extension.wsu.edu/mason/event/septic-summer/2026-07-16/
CATEGORIES:Agriculture,Water Resources
ORGANIZER;CN="WSU%20Mason%20County%20Small%20Farms":MAILTO:tessa.halloran@wsu.edu
END:VEVENT
BEGIN:VEVENT
DTSTART;TZID=America/Los_Angeles:20260813T160000
DTEND;TZID=America/Los_Angeles:20260813T183000
DTSTAMP:20260424T001308
CREATED:20260407T170729Z
LAST-MODIFIED:20260407T170754Z
UID:10003440-1786636800-1786645800@extension.wsu.edu
SUMMARY:Septic Summer!
DESCRIPTION:Learn how to keep your septic system running smoothly and protect the natural resources that make Mason County beautiful. \n2026 Workshop Offerings:\n\nJune 18th in Matlock\, 4:00PM – 6:30PM (Mary M. Knight School at 2987 Matlock-Brady Rd\, Elma WA).\nJuly 16th in Hoodsport\, 4:00PM – 6:30PM (Hoodsport Timberland Library at 40 N Schoolhouse Rd\, Hoodsport WA).\nAugust 13th in Belfair\, 4:00PM – 6:30PM (North Mason Timberland Library at 23081 WA-3\, Belfair WA).\n\nRegister at: mcsepticsummer2026.eventbrite.com
URL:https://extension.wsu.edu/mason/event/septic-summer/2026-08-13/
CATEGORIES:Agriculture,Water Resources
ORGANIZER;CN="WSU%20Mason%20County%20Small%20Farms":MAILTO:tessa.halloran@wsu.edu
END:VEVENT
END:VCALENDAR