BEGIN:VCALENDAR
VERSION:2.0
PRODID:-//Pierce County - ECPv6.1.3//NONSGML v1.0//EN
CALSCALE:GREGORIAN
METHOD:PUBLISH
X-WR-CALNAME:Pierce County
X-ORIGINAL-URL:https://extension.wsu.edu/pierce
X-WR-CALDESC:Events for Pierce County
REFRESH-INTERVAL;VALUE=DURATION:PT1H
X-Robots-Tag:noindex
X-PUBLISHED-TTL:PT1H
BEGIN:VTIMEZONE
TZID:America/Los_Angeles
BEGIN:DAYLIGHT
TZOFFSETFROM:-0800
TZOFFSETTO:-0700
TZNAME:PDT
DTSTART:20260308T100000
END:DAYLIGHT
BEGIN:STANDARD
TZOFFSETFROM:-0700
TZOFFSETTO:-0800
TZNAME:PST
DTSTART:20261101T090000
END:STANDARD
END:VTIMEZONE
BEGIN:VEVENT
DTSTART;TZID=America/Los_Angeles:20260430T170000
DTEND;TZID=America/Los_Angeles:20260430T180000
DTSTAMP:20260424T123954
CREATED:20260411T232237Z
LAST-MODIFIED:20260411T232315Z
UID:10017899-1777568400-1777572000@extension.wsu.edu
SUMMARY:Pollinators
DESCRIPTION:Protecting pollinators from climate change. Come learn about climate change effects on pollinators\, and how you can help pollinators in your own backyard. Will will go over basic flower anatomy and pollination biology. also\, how to provide food and forage for pollinators.
URL:https://extension.wsu.edu/pierce/event/pollinators-4/
LOCATION:Pierce County Library – Dupont Branch\, 1540 Wilmington Dr\, DuPont\, WA\, 98327\, United States
CATEGORIES:Master Gardener Program
END:VEVENT
END:VCALENDAR