BEGIN:VCALENDAR
VERSION:2.0
PRODID:-//San Juan County WSU Extension - ECPv6.1.3//NONSGML v1.0//EN
CALSCALE:GREGORIAN
METHOD:PUBLISH
X-WR-CALNAME:San Juan County WSU Extension
X-ORIGINAL-URL:https://extension.wsu.edu/sanjuan
X-WR-CALDESC:Events for San Juan County WSU Extension
REFRESH-INTERVAL;VALUE=DURATION:PT1H
X-Robots-Tag:noindex
X-PUBLISHED-TTL:PT1H
BEGIN:VTIMEZONE
TZID:America/Los_Angeles
BEGIN:DAYLIGHT
TZOFFSETFROM:-0800
TZOFFSETTO:-0700
TZNAME:PDT
DTSTART:20260308T100000
END:DAYLIGHT
BEGIN:STANDARD
TZOFFSETFROM:-0700
TZOFFSETTO:-0800
TZNAME:PST
DTSTART:20261101T090000
END:STANDARD
END:VTIMEZONE
BEGIN:VEVENT
DTSTART;TZID=America/Los_Angeles:20260103T113000
DTEND;TZID=America/Los_Angeles:20260103T140000
DTSTAMP:20260420T150544
CREATED:20251110T222510Z
LAST-MODIFIED:20251229T160347Z
UID:10000620-1767439800-1767448800@extension.wsu.edu
SUMMARY:4-H New Year\, New Skills (Canceled)
DESCRIPTION:Join us for a New Year\, New Skills event where you will learn a series of new skills for the New Year! We’ll make medical kits\, learn to write thank you cards\, learn simple sewing skills\, and more!
URL:https://extension.wsu.edu/sanjuan/event/4-h-new-year-new-skills/
LOCATION:Marie Boe 4-H Building
ORGANIZER;CN="San%20Juan%20County%204-H":MAILTO:sanjuan.4-H@wsu.edu
END:VEVENT
END:VCALENDAR