BEGIN:VCALENDAR
VERSION:2.0
PRODID:-//San Juan County WSU Extension - ECPv6.1.3//NONSGML v1.0//EN
CALSCALE:GREGORIAN
METHOD:PUBLISH
X-WR-CALNAME:San Juan County WSU Extension
X-ORIGINAL-URL:https://extension.wsu.edu/sanjuan
X-WR-CALDESC:Events for San Juan County WSU Extension
REFRESH-INTERVAL;VALUE=DURATION:PT1H
X-Robots-Tag:noindex
X-PUBLISHED-TTL:PT1H
BEGIN:VTIMEZONE
TZID:America/Los_Angeles
BEGIN:DAYLIGHT
TZOFFSETFROM:-0800
TZOFFSETTO:-0700
TZNAME:PDT
DTSTART:20260308T100000
END:DAYLIGHT
BEGIN:STANDARD
TZOFFSETFROM:-0700
TZOFFSETTO:-0800
TZNAME:PST
DTSTART:20261101T090000
END:STANDARD
END:VTIMEZONE
BEGIN:VEVENT
DTSTART;TZID=America/Los_Angeles:20260120T180000
DTEND;TZID=America/Los_Angeles:20260120T200000
DTSTAMP:20260420T150546
CREATED:20251113T202138Z
LAST-MODIFIED:20251113T202138Z
UID:10000621-1768932000-1768939200@extension.wsu.edu
SUMMARY:Cultivating Success: 2026 Agricultural Entrepreneurship and Business Planning Course
DESCRIPTION:January 20 – March 10 on Tuesdays from 6pm-8pm\nwith regional in-person intensives.\nThe WSU Cultivating Success™ series of courses combines workshop and farmer-direct learning experiences to help foster the success of new and existing farms. This course will walk you through the steps to create a farm business plan through weekly online classes with guest speaker farmers and resource providers and connections in regional groups.  \nThe course will be conducted online using the Zoom platform with in-person intensives available in regions of WA state on February 28 and March 7. In addition\, courses will be offered with Spanish language interpretation.   \nClick the link below to register. \nhttps://www.cultivatingsuccesswa.org/courseregistration  \n 
URL:https://extension.wsu.edu/sanjuan/event/cultivating-success-2026-agricultural-entrepreneurship-and-business-planning-course/
END:VEVENT
END:VCALENDAR