BEGIN:VCALENDAR
VERSION:2.0
PRODID:-//San Juan County WSU Extension - ECPv6.1.3//NONSGML v1.0//EN
CALSCALE:GREGORIAN
METHOD:PUBLISH
X-WR-CALNAME:San Juan County WSU Extension
X-ORIGINAL-URL:https://extension.wsu.edu/sanjuan
X-WR-CALDESC:Events for San Juan County WSU Extension
REFRESH-INTERVAL;VALUE=DURATION:PT1H
X-Robots-Tag:noindex
X-PUBLISHED-TTL:PT1H
BEGIN:VTIMEZONE
TZID:America/Los_Angeles
BEGIN:DAYLIGHT
TZOFFSETFROM:-0800
TZOFFSETTO:-0700
TZNAME:PDT
DTSTART:20260308T100000
END:DAYLIGHT
BEGIN:STANDARD
TZOFFSETFROM:-0700
TZOFFSETTO:-0800
TZNAME:PST
DTSTART:20261101T090000
END:STANDARD
END:VTIMEZONE
BEGIN:VEVENT
DTSTART;VALUE=DATE:20260131
DTEND;VALUE=DATE:20260201
DTSTAMP:20260420T150547
CREATED:20251201T172811Z
LAST-MODIFIED:20251201T172811Z
UID:10000623-1769817600-1769903999@extension.wsu.edu
SUMMARY:Country Living Expo
DESCRIPTION:Ready to grow your skills\, build your farm\, and connect with a vibrant homesteading community? Join us for the 2026 Country Living & Modern Homesteading Expo — the Northwest’s premier hands-on learning event for farmers\, gardeners\, homesteaders\, and rural dreamers alike! Registration Link.
URL:https://extension.wsu.edu/sanjuan/event/country-living-expo/
LOCATION:Stanwood High School
END:VEVENT
END:VCALENDAR