BEGIN:VCALENDAR
VERSION:2.0
PRODID:-//San Juan County WSU Extension - ECPv6.1.3//NONSGML v1.0//EN
CALSCALE:GREGORIAN
METHOD:PUBLISH
X-WR-CALNAME:San Juan County WSU Extension
X-ORIGINAL-URL:https://extension.wsu.edu/sanjuan
X-WR-CALDESC:Events for San Juan County WSU Extension
REFRESH-INTERVAL;VALUE=DURATION:PT1H
X-Robots-Tag:noindex
X-PUBLISHED-TTL:PT1H
BEGIN:VTIMEZONE
TZID:America/Los_Angeles
BEGIN:DAYLIGHT
TZOFFSETFROM:-0800
TZOFFSETTO:-0700
TZNAME:PDT
DTSTART:20260308T100000
END:DAYLIGHT
BEGIN:STANDARD
TZOFFSETFROM:-0700
TZOFFSETTO:-0800
TZNAME:PST
DTSTART:20261101T090000
END:STANDARD
END:VTIMEZONE
BEGIN:VEVENT
DTSTART;TZID=America/Los_Angeles:20260201T080000
DTEND;TZID=America/Los_Angeles:20260307T170000
DTSTAMP:20260420T115804
CREATED:20260130T183928Z
LAST-MODIFIED:20260202T230936Z
UID:10000631-1769932800-1772902800@extension.wsu.edu
SUMMARY:Master Gardener Native Plant Sale Pre-order
DESCRIPTION: 2026 Master Gardener Native Plant Sale is open!\n\nPre-Order online by March 7\, 2026\, or while supplies last.\nLink to online sale: https://www.mgfsjc.org/npsshop2026.html\n​Pick up your plants on Saturday\, March 14\, 2026\,\nbetween 10am – 12pm:\n\nSan Juan Island: The Marie Boe building at the San Juan County Fairgrounds\, 849 Argyle Ave\, Friday Harbor\nLopez Island: Sunset Builder’s Supply\, 4194 Center Road\nOrcas Island: Orcas Grange\, 3398 Orcas Rd\, Eastsound
URL:https://extension.wsu.edu/sanjuan/event/native-plant-sale/
END:VEVENT
BEGIN:VEVENT
DTSTART;VALUE=DATE:20260213
DTEND;VALUE=DATE:20260217
DTSTAMP:20260420T115804
CREATED:20251201T173003Z
LAST-MODIFIED:20251201T173003Z
UID:10000624-1770940800-1771286399@extension.wsu.edu
SUMMARY:4-H Know Your Government
DESCRIPTION:Know Your Government (KYG) is a civic education program with a four-year rotating topic: The Legislative System (2026)\, The Judicial System\, Elections and Party Platforms\, and Politics and the Media. It is important to remember though\, that KYG is much more than learning about how the Legislative process works. In fact\, one could argue that it is little about that. \nKYG and 4-H are about learning the life skills our delegates will need to be responsible citizens and productive adults. The conference is an opportunity for delegates to practice the skills they have learned\, apply their knowledge to unknown situations and reflect on how they did.
URL:https://extension.wsu.edu/sanjuan/event/4-h-know-your-government/
LOCATION:Olympia\, WA\, Olympia\, WA\, United States
END:VEVENT
END:VCALENDAR