BEGIN:VCALENDAR
VERSION:2.0
PRODID:-//San Juan County WSU Extension - ECPv6.1.3//NONSGML v1.0//EN
CALSCALE:GREGORIAN
METHOD:PUBLISH
X-WR-CALNAME:San Juan County WSU Extension
X-ORIGINAL-URL:https://extension.wsu.edu/sanjuan
X-WR-CALDESC:Events for San Juan County WSU Extension
REFRESH-INTERVAL;VALUE=DURATION:PT1H
X-Robots-Tag:noindex
X-PUBLISHED-TTL:PT1H
BEGIN:VTIMEZONE
TZID:America/Los_Angeles
BEGIN:DAYLIGHT
TZOFFSETFROM:-0800
TZOFFSETTO:-0700
TZNAME:PDT
DTSTART:20260308T100000
END:DAYLIGHT
BEGIN:STANDARD
TZOFFSETFROM:-0700
TZOFFSETTO:-0800
TZNAME:PST
DTSTART:20261101T090000
END:STANDARD
END:VTIMEZONE
BEGIN:VEVENT
DTSTART;TZID=America/Los_Angeles:20260310T180000
DTEND;TZID=America/Los_Angeles:20260310T190000
DTSTAMP:20260420T115810
CREATED:20260225T175259Z
LAST-MODIFIED:20260310T220612Z
UID:10000705-1773165600-1773169200@extension.wsu.edu
SUMMARY:March LMAAC Meeting - POSTPONED
DESCRIPTION:The March LMAAC meeting will take place via zoom on March 10th at 6:00 p.m.
URL:https://extension.wsu.edu/sanjuan/event/march-lmaac-meeting/
CATEGORIES:Leaders' Council Meeting
END:VEVENT
END:VCALENDAR