BEGIN:VCALENDAR
VERSION:2.0
PRODID:-//San Juan County WSU Extension - ECPv6.1.3//NONSGML v1.0//EN
CALSCALE:GREGORIAN
METHOD:PUBLISH
X-WR-CALNAME:San Juan County WSU Extension
X-ORIGINAL-URL:https://extension.wsu.edu/sanjuan
X-WR-CALDESC:Events for San Juan County WSU Extension
REFRESH-INTERVAL;VALUE=DURATION:PT1H
X-Robots-Tag:noindex
X-PUBLISHED-TTL:PT1H
BEGIN:VTIMEZONE
TZID:America/Los_Angeles
BEGIN:DAYLIGHT
TZOFFSETFROM:-0800
TZOFFSETTO:-0700
TZNAME:PDT
DTSTART:20260308T100000
END:DAYLIGHT
BEGIN:STANDARD
TZOFFSETFROM:-0700
TZOFFSETTO:-0800
TZNAME:PST
DTSTART:20261101T090000
END:STANDARD
END:VTIMEZONE
BEGIN:VEVENT
DTSTART;TZID=America/Los_Angeles:20260314T080000
DTEND;TZID=America/Los_Angeles:20260314T170000
DTSTAMP:20260420T115805
CREATED:20260225T175424Z
LAST-MODIFIED:20260225T175424Z
UID:10000706-1773475200-1773507600@extension.wsu.edu
SUMMARY:March Leaders Council Meeting - Lopez
DESCRIPTION:The March Leaders Council meeting will take place in person on Lopez Island – March 14th.
URL:https://extension.wsu.edu/sanjuan/event/march-leaders-council-meeting-lopez/
LOCATION:Lopez Island Library\, 2225 Fisherman Bay Rd\, Lopez Island\, WA\, 98261\, United States
CATEGORIES:Leaders' Council Meeting
END:VEVENT
BEGIN:VEVENT
DTSTART;TZID=America/Los_Angeles:20260314T100000
DTEND;TZID=America/Los_Angeles:20260314T120000
DTSTAMP:20260420T115805
CREATED:20260202T225400Z
LAST-MODIFIED:20260202T231029Z
UID:10000632-1773482400-1773489600@extension.wsu.edu
SUMMARY:Master Gardener Native Plant Sale Pick-up
DESCRIPTION:​Pick up your plants on Saturday\, March 14\, 2026\,\nbetween 10am – 12pm:\n\nSan Juan Island: The Marie Boe building at the San Juan County Fairgrounds\, 849 Argyle Ave\, Friday Harbor\nLopez Island: Sunset Builder’s Supply\, 4194 Center Road\nOrcas Island: Orcas Grange\, 3398 Orcas Rd\, Eastsound
URL:https://extension.wsu.edu/sanjuan/event/native-plant-sale-pick-up/
END:VEVENT
END:VCALENDAR