BEGIN:VCALENDAR
VERSION:2.0
PRODID:-//San Juan County WSU Extension - ECPv6.1.3//NONSGML v1.0//EN
CALSCALE:GREGORIAN
METHOD:PUBLISH
X-WR-CALNAME:San Juan County WSU Extension
X-ORIGINAL-URL:https://extension.wsu.edu/sanjuan
X-WR-CALDESC:Events for San Juan County WSU Extension
REFRESH-INTERVAL;VALUE=DURATION:PT1H
X-Robots-Tag:noindex
X-PUBLISHED-TTL:PT1H
BEGIN:VTIMEZONE
TZID:America/Los_Angeles
BEGIN:DAYLIGHT
TZOFFSETFROM:-0800
TZOFFSETTO:-0700
TZNAME:PDT
DTSTART:20260308T100000
END:DAYLIGHT
BEGIN:STANDARD
TZOFFSETFROM:-0700
TZOFFSETTO:-0800
TZNAME:PST
DTSTART:20261101T090000
END:STANDARD
END:VTIMEZONE
BEGIN:VEVENT
DTSTART;TZID=America/Los_Angeles:20260411T113000
DTEND;TZID=America/Los_Angeles:20260411T130000
DTSTAMP:20260419T203932
CREATED:20260223T231609Z
LAST-MODIFIED:20260330T212850Z
UID:10000704-1775907000-1775912400@extension.wsu.edu
SUMMARY:Vegetable Gardening Workshop
DESCRIPTION:Vegetable Gardening Workshop – April 11 \nKick off your 2026 garden with the WSU Extension Master Gardeners! Dr. Carol Miles will present practical tips for growing vegetables in the San Juan Islands\, including site selection\, fencing\, and planting techniques. Master Gardeners will also be available for Q&A and will share how you can access their gardening resources all year long. \n📅 April 11\n🕚 11:30 to 1:00\n📍 Marie Boe Building @ San Juan County Fairgrounds \n✔ Free community event
URL:https://extension.wsu.edu/sanjuan/event/vegetable-gardening-workshop/
LOCATION:San Juan County Fairgrounds\, 849 Argyle Ave\, Friday Harbor\, 98250\, United States
END:VEVENT
END:VCALENDAR