BEGIN:VCALENDAR
VERSION:2.0
PRODID:-//San Juan County WSU Extension - ECPv6.1.3//NONSGML v1.0//EN
CALSCALE:GREGORIAN
METHOD:PUBLISH
X-WR-CALNAME:San Juan County WSU Extension
X-ORIGINAL-URL:https://extension.wsu.edu/sanjuan
X-WR-CALDESC:Events for San Juan County WSU Extension
REFRESH-INTERVAL;VALUE=DURATION:PT1H
X-Robots-Tag:noindex
X-PUBLISHED-TTL:PT1H
BEGIN:VTIMEZONE
TZID:America/Los_Angeles
BEGIN:DAYLIGHT
TZOFFSETFROM:-0800
TZOFFSETTO:-0700
TZNAME:PDT
DTSTART:20260308T100000
END:DAYLIGHT
BEGIN:STANDARD
TZOFFSETFROM:-0700
TZOFFSETTO:-0800
TZNAME:PST
DTSTART:20261101T090000
END:STANDARD
END:VTIMEZONE
BEGIN:VEVENT
DTSTART;TZID=America/Los_Angeles:20260414T180000
DTEND;TZID=America/Los_Angeles:20260414T200000
DTSTAMP:20260419T203932
CREATED:20260325T231210Z
LAST-MODIFIED:20260325T231210Z
UID:10000709-1776189600-1776196800@extension.wsu.edu
SUMMARY:April Leaders Council Meeting - Zoom
DESCRIPTION:The April Leaders Council meeting will take place via Zoom at 6:00 p.m. on April 14.
URL:https://extension.wsu.edu/sanjuan/event/april-leaders-council-meeting-zoom-2/
LOCATION:Zoom\, WA
CATEGORIES:Leaders' Council Meeting
END:VEVENT
END:VCALENDAR