BEGIN:VCALENDAR
VERSION:2.0
PRODID:-//San Juan County WSU Extension - ECPv6.1.3//NONSGML v1.0//EN
CALSCALE:GREGORIAN
METHOD:PUBLISH
X-WR-CALNAME:San Juan County WSU Extension
X-ORIGINAL-URL:https://extension.wsu.edu/sanjuan
X-WR-CALDESC:Events for San Juan County WSU Extension
REFRESH-INTERVAL;VALUE=DURATION:PT1H
X-Robots-Tag:noindex
X-PUBLISHED-TTL:PT1H
BEGIN:VTIMEZONE
TZID:America/Los_Angeles
BEGIN:DAYLIGHT
TZOFFSETFROM:-0800
TZOFFSETTO:-0700
TZNAME:PDT
DTSTART:20260308T100000
END:DAYLIGHT
BEGIN:STANDARD
TZOFFSETFROM:-0700
TZOFFSETTO:-0800
TZNAME:PST
DTSTART:20261101T090000
END:STANDARD
END:VTIMEZONE
BEGIN:VEVENT
DTSTART;TZID=America/Los_Angeles:20260416T120000
DTEND;TZID=America/Los_Angeles:20260507T130000
DTSTAMP:20260419T203932
CREATED:20260223T230946Z
LAST-MODIFIED:20260223T231431Z
UID:10000703-1776340800-1778158800@extension.wsu.edu
SUMMARY:Grow Your Own Food\, basic food gardening class series
DESCRIPTION:Want to start a vegetable garden this spring but not sure where to begin? Join our four-part lunchtime class series taught by Master Gardeners. Each session includes hands-on demonstrations and practical skills you can apply immediately—perfect for beginners or anyone looking to brush up their gardening knowledge.\n \nDates: Thursdays\, April 16\, 23\, 30 & May 7 (12–1 pm)    \nSpace is limited—register today! \nhttps://forms.office.com/g/UT4PTkp9u8
URL:https://extension.wsu.edu/sanjuan/event/grow-your-own-food-basic-food-gardening-class-series-pre-registration-required/
LOCATION:Master Gardener Demo Garden
END:VEVENT
BEGIN:VEVENT
DTSTART;TZID=America/Los_Angeles:20260502T080000
DTEND;TZID=America/Los_Angeles:20260502T110000
DTSTAMP:20260419T203932
CREATED:20260320T164029Z
LAST-MODIFIED:20260331T225344Z
UID:10000708-1777708800-1777719600@extension.wsu.edu
SUMMARY:2026 Livestock Arena Workparty
DESCRIPTION:We will be working around the livestock area and setting up the arena for the showmanship clinic and weigh-in later in the month.
URL:https://extension.wsu.edu/sanjuan/event/2026-livestock-arena-workparty/
LOCATION:San Juan County Fairgrounds\, 849 Argyle Ave\, Friday Harbor\, 98250\, United States
ORGANIZER;CN="San%20Juan%20County%204-H":MAILTO:sanjuan.4-H@wsu.edu
END:VEVENT
BEGIN:VEVENT
DTSTART;TZID=America/Los_Angeles:20260502T110000
DTEND;TZID=America/Los_Angeles:20260502T143000
DTSTAMP:20260419T203932
CREATED:20260220T005404Z
LAST-MODIFIED:20260401T022803Z
UID:10000701-1777719600-1777732200@extension.wsu.edu
SUMMARY:2026 San Juan County 4-H Youth Fair
DESCRIPTION:The 2nd Annual San Juan County 4-H Youth Fair is scheduled for May 2\, 2026 at the San Juan County Fairgrounds from 11:00 – 2:30. \nThe tentative schedule for this year is: \n8:00 a.m. – 11:00 a.m. 4-H Arena Work Party \n11:30 Lunch Provided \nNoon Public Presentation & Demonstration Contest Starts \nSimultaneously \n\nStem Activity\nQ&A with Clinton\nEducational Poster Making
URL:https://extension.wsu.edu/sanjuan/event/2026-san-juan-county-4-h-youth-fair/
LOCATION:Marie Boe 4-H Building
ORGANIZER;CN="San%20Juan%20County%204-H":MAILTO:sanjuan.4-H@wsu.edu
END:VEVENT
END:VCALENDAR