BEGIN:VCALENDAR
VERSION:2.0
PRODID:-//San Juan County WSU Extension - ECPv6.1.3//NONSGML v1.0//EN
CALSCALE:GREGORIAN
METHOD:PUBLISH
X-WR-CALNAME:San Juan County WSU Extension
X-ORIGINAL-URL:https://extension.wsu.edu/sanjuan
X-WR-CALDESC:Events for San Juan County WSU Extension
REFRESH-INTERVAL;VALUE=DURATION:PT1H
X-Robots-Tag:noindex
X-PUBLISHED-TTL:PT1H
BEGIN:VTIMEZONE
TZID:America/Los_Angeles
BEGIN:DAYLIGHT
TZOFFSETFROM:-0800
TZOFFSETTO:-0700
TZNAME:PDT
DTSTART:20260308T100000
END:DAYLIGHT
BEGIN:STANDARD
TZOFFSETFROM:-0700
TZOFFSETTO:-0800
TZNAME:PST
DTSTART:20261101T090000
END:STANDARD
END:VTIMEZONE
BEGIN:VEVENT
DTSTART;TZID=America/Los_Angeles:20260808T130000
DTEND;TZID=America/Los_Angeles:20260808T150000
DTSTAMP:20260420T150550
CREATED:20260203T175144Z
LAST-MODIFIED:20260203T180252Z
UID:10000645-1786194000-1786201200@extension.wsu.edu
SUMMARY:Lopez Ask A Master Gardener
DESCRIPTION:If you want to have some back-and-forth question and answer time with a Master Gardener volunteer to hone in on a difficult to describe issue\, come to our Ask A Master Gardener event at Sunset Builders. This is a great opportunity to ask general gardening questions\, find out about gardening resources and to bring you plant problem samples or plants/insects for identification. We look forward to seeing you!
URL:https://extension.wsu.edu/sanjuan/event/lopez-ask-a-master-gardener/2026-08-08/
LOCATION:Sunset Builders Supply\, 4194 Center Rd\, Lopez Island\, WA\, 98261\, United States
END:VEVENT
BEGIN:VEVENT
DTSTART;TZID=America/Los_Angeles:20260808T130000
DTEND;TZID=America/Los_Angeles:20260808T150000
DTSTAMP:20260420T150550
CREATED:20260203T175921Z
LAST-MODIFIED:20260203T180140Z
UID:10000697-1786194000-1786201200@extension.wsu.edu
SUMMARY:Orcas Ask A Master Gardener
DESCRIPTION:If you want to have some back-and-forth question and answer time with a Master Gardener volunteer to hone in on a difficult to describe issue\, come to our in-person Ask A Master Gardener event at Island Market Garden Nursery. This is a great opportunity to ask general gardening questions\, find out about gardening resources and to bring you plant problem samples or plants/insects for identification. We look forward to seeing you!
URL:https://extension.wsu.edu/sanjuan/event/orcas-ask-a-master-gardener/2026-08-08/
LOCATION:Island Market Garden Nursery
END:VEVENT
END:VCALENDAR