BEGIN:VCALENDAR
VERSION:2.0
PRODID:-//San Juan County WSU Extension - ECPv6.1.3//NONSGML v1.0//EN
CALSCALE:GREGORIAN
METHOD:PUBLISH
X-WR-CALNAME:San Juan County WSU Extension
X-ORIGINAL-URL:https://extension.wsu.edu/sanjuan
X-WR-CALDESC:Events for San Juan County WSU Extension
REFRESH-INTERVAL;VALUE=DURATION:PT1H
X-Robots-Tag:noindex
X-PUBLISHED-TTL:PT1H
BEGIN:VTIMEZONE
TZID:America/Los_Angeles
BEGIN:DAYLIGHT
TZOFFSETFROM:-0800
TZOFFSETTO:-0700
TZNAME:PDT
DTSTART:20260308T100000
END:DAYLIGHT
BEGIN:STANDARD
TZOFFSETFROM:-0700
TZOFFSETTO:-0800
TZNAME:PST
DTSTART:20261101T090000
END:STANDARD
END:VTIMEZONE
BEGIN:VEVENT
DTSTART;TZID=America/Los_Angeles:20260704T130000
DTEND;TZID=America/Los_Angeles:20260704T150000
DTSTAMP:20260420T115805
CREATED:20260203T175144Z
LAST-MODIFIED:20260203T180252Z
UID:10000640-1783170000-1783177200@extension.wsu.edu
SUMMARY:Lopez Ask A Master Gardener
DESCRIPTION:If you want to have some back-and-forth question and answer time with a Master Gardener volunteer to hone in on a difficult to describe issue\, come to our Ask A Master Gardener event at Sunset Builders. This is a great opportunity to ask general gardening questions\, find out about gardening resources and to bring you plant problem samples or plants/insects for identification. We look forward to seeing you!
URL:https://extension.wsu.edu/sanjuan/event/lopez-ask-a-master-gardener/2026-07-04/
LOCATION:Sunset Builders Supply\, 4194 Center Rd\, Lopez Island\, WA\, 98261\, United States
END:VEVENT
BEGIN:VEVENT
DTSTART;TZID=America/Los_Angeles:20260711T130000
DTEND;TZID=America/Los_Angeles:20260711T150000
DTSTAMP:20260420T115805
CREATED:20260203T175144Z
LAST-MODIFIED:20260203T180252Z
UID:10000641-1783774800-1783782000@extension.wsu.edu
SUMMARY:Lopez Ask A Master Gardener
DESCRIPTION:If you want to have some back-and-forth question and answer time with a Master Gardener volunteer to hone in on a difficult to describe issue\, come to our Ask A Master Gardener event at Sunset Builders. This is a great opportunity to ask general gardening questions\, find out about gardening resources and to bring you plant problem samples or plants/insects for identification. We look forward to seeing you!
URL:https://extension.wsu.edu/sanjuan/event/lopez-ask-a-master-gardener/2026-07-11/
LOCATION:Sunset Builders Supply\, 4194 Center Rd\, Lopez Island\, WA\, 98261\, United States
END:VEVENT
BEGIN:VEVENT
DTSTART;TZID=America/Los_Angeles:20260711T130000
DTEND;TZID=America/Los_Angeles:20260711T150000
DTSTAMP:20260420T115805
CREATED:20260203T175921Z
LAST-MODIFIED:20260203T180140Z
UID:10000695-1783774800-1783782000@extension.wsu.edu
SUMMARY:Orcas Ask A Master Gardener
DESCRIPTION:If you want to have some back-and-forth question and answer time with a Master Gardener volunteer to hone in on a difficult to describe issue\, come to our in-person Ask A Master Gardener event at Island Market Garden Nursery. This is a great opportunity to ask general gardening questions\, find out about gardening resources and to bring you plant problem samples or plants/insects for identification. We look forward to seeing you!
URL:https://extension.wsu.edu/sanjuan/event/orcas-ask-a-master-gardener/2026-07-11/
LOCATION:Island Market Garden Nursery
END:VEVENT
BEGIN:VEVENT
DTSTART;TZID=America/Los_Angeles:20260718T130000
DTEND;TZID=America/Los_Angeles:20260718T150000
DTSTAMP:20260420T115806
CREATED:20260203T175144Z
LAST-MODIFIED:20260203T180252Z
UID:10000642-1784379600-1784386800@extension.wsu.edu
SUMMARY:Lopez Ask A Master Gardener
DESCRIPTION:If you want to have some back-and-forth question and answer time with a Master Gardener volunteer to hone in on a difficult to describe issue\, come to our Ask A Master Gardener event at Sunset Builders. This is a great opportunity to ask general gardening questions\, find out about gardening resources and to bring you plant problem samples or plants/insects for identification. We look forward to seeing you!
URL:https://extension.wsu.edu/sanjuan/event/lopez-ask-a-master-gardener/2026-07-18/
LOCATION:Sunset Builders Supply\, 4194 Center Rd\, Lopez Island\, WA\, 98261\, United States
END:VEVENT
BEGIN:VEVENT
DTSTART;TZID=America/Los_Angeles:20260722T130000
DTEND;TZID=America/Los_Angeles:20260722T150000
DTSTAMP:20260420T115806
CREATED:20260203T175921Z
LAST-MODIFIED:20260203T180140Z
UID:10000696-1784725200-1784732400@extension.wsu.edu
SUMMARY:Orcas Ask A Master Gardener
DESCRIPTION:If you want to have some back-and-forth question and answer time with a Master Gardener volunteer to hone in on a difficult to describe issue\, come to our in-person Ask A Master Gardener event at Island Market Garden Nursery. This is a great opportunity to ask general gardening questions\, find out about gardening resources and to bring you plant problem samples or plants/insects for identification. We look forward to seeing you!
URL:https://extension.wsu.edu/sanjuan/event/orcas-ask-a-master-gardener/2026-07-22/
LOCATION:Island Market Garden Nursery
END:VEVENT
BEGIN:VEVENT
DTSTART;TZID=America/Los_Angeles:20260725T130000
DTEND;TZID=America/Los_Angeles:20260725T150000
DTSTAMP:20260420T115806
CREATED:20260203T175144Z
LAST-MODIFIED:20260203T180252Z
UID:10000643-1784984400-1784991600@extension.wsu.edu
SUMMARY:Lopez Ask A Master Gardener
DESCRIPTION:If you want to have some back-and-forth question and answer time with a Master Gardener volunteer to hone in on a difficult to describe issue\, come to our Ask A Master Gardener event at Sunset Builders. This is a great opportunity to ask general gardening questions\, find out about gardening resources and to bring you plant problem samples or plants/insects for identification. We look forward to seeing you!
URL:https://extension.wsu.edu/sanjuan/event/lopez-ask-a-master-gardener/2026-07-25/
LOCATION:Sunset Builders Supply\, 4194 Center Rd\, Lopez Island\, WA\, 98261\, United States
END:VEVENT
END:VCALENDAR