BEGIN:VCALENDAR
VERSION:2.0
PRODID:-//San Juan County WSU Extension - ECPv6.1.3//NONSGML v1.0//EN
CALSCALE:GREGORIAN
METHOD:PUBLISH
X-ORIGINAL-URL:https://extension.wsu.edu/sanjuan
X-WR-CALDESC:Events for San Juan County WSU Extension
REFRESH-INTERVAL;VALUE=DURATION:PT1H
X-Robots-Tag:noindex
X-PUBLISHED-TTL:PT1H
BEGIN:VTIMEZONE
TZID:America/Los_Angeles
BEGIN:DAYLIGHT
TZOFFSETFROM:-0800
TZOFFSETTO:-0700
TZNAME:PDT
DTSTART:20260308T100000
END:DAYLIGHT
BEGIN:STANDARD
TZOFFSETFROM:-0700
TZOFFSETTO:-0800
TZNAME:PST
DTSTART:20261101T090000
END:STANDARD
END:VTIMEZONE
BEGIN:VEVENT
DTSTART;TZID=America/Los_Angeles:20260506T110000
DTEND;TZID=America/Los_Angeles:20260506T133000
DTSTAMP:20260422T102138
CREATED:20260421T192301Z
LAST-MODIFIED:20260421T192301Z
UID:10000785-1778065200-1778074200@extension.wsu.edu
SUMMARY:MG Share Table at Friday Harbor Food Bank
DESCRIPTION:Visit Master Gardeners at the Share Table outside the Friday Harbor food bank for home gardening advice\, garden starts and more – including recipes to inspire incorporating seasonally grown produce into meals.
URL:https://extension.wsu.edu/sanjuan/event/mg-share-table-at-friday-harbor-food-bank/2026-05-06/
LOCATION:Friday Harbor Food Bank\, 500 Market Street\, Friday Harbor\, WA\, 98250\, United States
END:VEVENT
BEGIN:VEVENT
DTSTART;TZID=America/Los_Angeles:20260509T110000
DTEND;TZID=America/Los_Angeles:20260509T133000
DTSTAMP:20260422T102138
CREATED:20260421T192301Z
LAST-MODIFIED:20260421T192301Z
UID:10000786-1778324400-1778333400@extension.wsu.edu
SUMMARY:MG Share Table at Friday Harbor Food Bank
DESCRIPTION:Visit Master Gardeners at the Share Table outside the Friday Harbor food bank for home gardening advice\, garden starts and more – including recipes to inspire incorporating seasonally grown produce into meals.
URL:https://extension.wsu.edu/sanjuan/event/mg-share-table-at-friday-harbor-food-bank/2026-05-09/
LOCATION:Friday Harbor Food Bank\, 500 Market Street\, Friday Harbor\, WA\, 98250\, United States
END:VEVENT
BEGIN:VEVENT
DTSTART;TZID=America/Los_Angeles:20260603T110000
DTEND;TZID=America/Los_Angeles:20260603T133000
DTSTAMP:20260422T102138
CREATED:20260421T192301Z
LAST-MODIFIED:20260421T192301Z
UID:10000787-1780484400-1780493400@extension.wsu.edu
SUMMARY:MG Share Table at Friday Harbor Food Bank
DESCRIPTION:Visit Master Gardeners at the Share Table outside the Friday Harbor food bank for home gardening advice\, garden starts and more – including recipes to inspire incorporating seasonally grown produce into meals.
URL:https://extension.wsu.edu/sanjuan/event/mg-share-table-at-friday-harbor-food-bank/2026-06-03/
LOCATION:Friday Harbor Food Bank\, 500 Market Street\, Friday Harbor\, WA\, 98250\, United States
END:VEVENT
BEGIN:VEVENT
DTSTART;TZID=America/Los_Angeles:20260606T110000
DTEND;TZID=America/Los_Angeles:20260606T133000
DTSTAMP:20260422T102138
CREATED:20260421T192301Z
LAST-MODIFIED:20260421T192301Z
UID:10000788-1780743600-1780752600@extension.wsu.edu
SUMMARY:MG Share Table at Friday Harbor Food Bank
DESCRIPTION:Visit Master Gardeners at the Share Table outside the Friday Harbor food bank for home gardening advice\, garden starts and more – including recipes to inspire incorporating seasonally grown produce into meals.
URL:https://extension.wsu.edu/sanjuan/event/mg-share-table-at-friday-harbor-food-bank/2026-06-06/
LOCATION:Friday Harbor Food Bank\, 500 Market Street\, Friday Harbor\, WA\, 98250\, United States
END:VEVENT
BEGIN:VEVENT
DTSTART;TZID=America/Los_Angeles:20260701T110000
DTEND;TZID=America/Los_Angeles:20260701T133000
DTSTAMP:20260422T102138
CREATED:20260421T192301Z
LAST-MODIFIED:20260421T192301Z
UID:10000789-1782903600-1782912600@extension.wsu.edu
SUMMARY:MG Share Table at Friday Harbor Food Bank
DESCRIPTION:Visit Master Gardeners at the Share Table outside the Friday Harbor food bank for home gardening advice\, garden starts and more – including recipes to inspire incorporating seasonally grown produce into meals.
URL:https://extension.wsu.edu/sanjuan/event/mg-share-table-at-friday-harbor-food-bank/2026-07-01/
LOCATION:Friday Harbor Food Bank\, 500 Market Street\, Friday Harbor\, WA\, 98250\, United States
END:VEVENT
BEGIN:VEVENT
DTSTART;TZID=America/Los_Angeles:20260704T110000
DTEND;TZID=America/Los_Angeles:20260704T133000
DTSTAMP:20260422T102138
CREATED:20260421T192301Z
LAST-MODIFIED:20260421T192301Z
UID:10000790-1783162800-1783171800@extension.wsu.edu
SUMMARY:MG Share Table at Friday Harbor Food Bank
DESCRIPTION:Visit Master Gardeners at the Share Table outside the Friday Harbor food bank for home gardening advice\, garden starts and more – including recipes to inspire incorporating seasonally grown produce into meals.
URL:https://extension.wsu.edu/sanjuan/event/mg-share-table-at-friday-harbor-food-bank/2026-07-04/
LOCATION:Friday Harbor Food Bank\, 500 Market Street\, Friday Harbor\, WA\, 98250\, United States
END:VEVENT
BEGIN:VEVENT
DTSTART;TZID=America/Los_Angeles:20260805T110000
DTEND;TZID=America/Los_Angeles:20260805T133000
DTSTAMP:20260422T102138
CREATED:20260421T192301Z
LAST-MODIFIED:20260421T192301Z
UID:10000791-1785927600-1785936600@extension.wsu.edu
SUMMARY:MG Share Table at Friday Harbor Food Bank
DESCRIPTION:Visit Master Gardeners at the Share Table outside the Friday Harbor food bank for home gardening advice\, garden starts and more – including recipes to inspire incorporating seasonally grown produce into meals.
URL:https://extension.wsu.edu/sanjuan/event/mg-share-table-at-friday-harbor-food-bank/2026-08-05/
LOCATION:Friday Harbor Food Bank\, 500 Market Street\, Friday Harbor\, WA\, 98250\, United States
END:VEVENT
BEGIN:VEVENT
DTSTART;TZID=America/Los_Angeles:20260808T110000
DTEND;TZID=America/Los_Angeles:20260808T133000
DTSTAMP:20260422T102138
CREATED:20260421T192301Z
LAST-MODIFIED:20260421T192301Z
UID:10000792-1786186800-1786195800@extension.wsu.edu
SUMMARY:MG Share Table at Friday Harbor Food Bank
DESCRIPTION:Visit Master Gardeners at the Share Table outside the Friday Harbor food bank for home gardening advice\, garden starts and more – including recipes to inspire incorporating seasonally grown produce into meals.
URL:https://extension.wsu.edu/sanjuan/event/mg-share-table-at-friday-harbor-food-bank/2026-08-08/
LOCATION:Friday Harbor Food Bank\, 500 Market Street\, Friday Harbor\, WA\, 98250\, United States
END:VEVENT
BEGIN:VEVENT
DTSTART;TZID=America/Los_Angeles:20260902T110000
DTEND;TZID=America/Los_Angeles:20260902T133000
DTSTAMP:20260422T102138
CREATED:20260421T192301Z
LAST-MODIFIED:20260421T192301Z
UID:10000793-1788346800-1788355800@extension.wsu.edu
SUMMARY:MG Share Table at Friday Harbor Food Bank
DESCRIPTION:Visit Master Gardeners at the Share Table outside the Friday Harbor food bank for home gardening advice\, garden starts and more – including recipes to inspire incorporating seasonally grown produce into meals.
URL:https://extension.wsu.edu/sanjuan/event/mg-share-table-at-friday-harbor-food-bank/2026-09-02/
LOCATION:Friday Harbor Food Bank\, 500 Market Street\, Friday Harbor\, WA\, 98250\, United States
END:VEVENT
BEGIN:VEVENT
DTSTART;TZID=America/Los_Angeles:20260905T110000
DTEND;TZID=America/Los_Angeles:20260905T133000
DTSTAMP:20260422T102138
CREATED:20260421T192301Z
LAST-MODIFIED:20260421T192301Z
UID:10000794-1788606000-1788615000@extension.wsu.edu
SUMMARY:MG Share Table at Friday Harbor Food Bank
DESCRIPTION:Visit Master Gardeners at the Share Table outside the Friday Harbor food bank for home gardening advice\, garden starts and more – including recipes to inspire incorporating seasonally grown produce into meals.
URL:https://extension.wsu.edu/sanjuan/event/mg-share-table-at-friday-harbor-food-bank/2026-09-05/
LOCATION:Friday Harbor Food Bank\, 500 Market Street\, Friday Harbor\, WA\, 98250\, United States
END:VEVENT
BEGIN:VEVENT
DTSTART;TZID=America/Los_Angeles:20261007T110000
DTEND;TZID=America/Los_Angeles:20261007T133000
DTSTAMP:20260422T102138
CREATED:20260421T192301Z
LAST-MODIFIED:20260421T192301Z
UID:10000795-1791370800-1791379800@extension.wsu.edu
SUMMARY:MG Share Table at Friday Harbor Food Bank
DESCRIPTION:Visit Master Gardeners at the Share Table outside the Friday Harbor food bank for home gardening advice\, garden starts and more – including recipes to inspire incorporating seasonally grown produce into meals.
URL:https://extension.wsu.edu/sanjuan/event/mg-share-table-at-friday-harbor-food-bank/2026-10-07/
LOCATION:Friday Harbor Food Bank\, 500 Market Street\, Friday Harbor\, WA\, 98250\, United States
END:VEVENT
BEGIN:VEVENT
DTSTART;TZID=America/Los_Angeles:20261010T110000
DTEND;TZID=America/Los_Angeles:20261010T133000
DTSTAMP:20260422T102138
CREATED:20260421T192301Z
LAST-MODIFIED:20260421T192301Z
UID:10000796-1791630000-1791639000@extension.wsu.edu
SUMMARY:MG Share Table at Friday Harbor Food Bank
DESCRIPTION:Visit Master Gardeners at the Share Table outside the Friday Harbor food bank for home gardening advice\, garden starts and more – including recipes to inspire incorporating seasonally grown produce into meals.
URL:https://extension.wsu.edu/sanjuan/event/mg-share-table-at-friday-harbor-food-bank/2026-10-10/
LOCATION:Friday Harbor Food Bank\, 500 Market Street\, Friday Harbor\, WA\, 98250\, United States
END:VEVENT
END:VCALENDAR