BEGIN:VCALENDAR
VERSION:2.0
PRODID:-//Skagit County - ECPv6.1.3//NONSGML v1.0//EN
CALSCALE:GREGORIAN
METHOD:PUBLISH
X-WR-CALNAME:Skagit County
X-ORIGINAL-URL:https://extension.wsu.edu/skagit
X-WR-CALDESC:Events for Skagit County
REFRESH-INTERVAL;VALUE=DURATION:PT1H
X-Robots-Tag:noindex
X-PUBLISHED-TTL:PT1H
BEGIN:VTIMEZONE
TZID:America/Los_Angeles
BEGIN:DAYLIGHT
TZOFFSETFROM:-0800
TZOFFSETTO:-0700
TZNAME:PDT
DTSTART:20220313T100000
END:DAYLIGHT
BEGIN:STANDARD
TZOFFSETFROM:-0700
TZOFFSETTO:-0800
TZNAME:PST
DTSTART:20221106T090000
END:STANDARD
END:VTIMEZONE
BEGIN:VEVENT
DTSTART;TZID=America/Los_Angeles:20220214T070000
DTEND;TZID=America/Los_Angeles:20220216T140000
DTSTAMP:20260421T182430
CREATED:20211222T205838Z
LAST-MODIFIED:20211222T205838Z
UID:10000378-1644822000-1645020000@extension.wsu.edu
SUMMARY:Foro Occidental de Salud Migrante y Comunitaria de 2022
DESCRIPTION:“¡Tenemos previsto celebrar en persona el Foro Occidental de Salud Migrante y Comunitaria de 2022 y esperamos verlos en Portland\, Oregón\, del 14 al 16 de febrero! Éste será un evento tradicional – ligeramente reducido – en persona\, con muchas oportunidades para reconectar con compañeros y colegas. Según la política de la NWRPCA\, se requerirá un comprobante de la vacuna del COVID-19 para asistir a la parte presencial del Foro\, y se exigirá el comprobante a todos los participantes (asistentes\, expositores\, oradores\, personal de la NWRPCA\, etc.)\n\nEl tema del Foro Occidental de este año “Adelante: Construir resiliencia y fortaleza para una recuperación saludable y justa\,” es un reconocimiento al trayecto\, el trabajo\, la innovación y los sacrificios que en los últimos dos años han hecho nuestros socios\, las comunidades y los colegas que trabajan en las primeras filas y que son los primeros recursos. Es también una promesa para el futuro. La promesa de crear resiliencia a partir de la adversidad\, de nutrir la fortaleza a partir de la pérdida y de comprometerse a crear una comunidad más justa y saludable. Nuestro centro de salud comunitario de primera fila y las organizaciones de base comunitaria encarnan el espíritu de “Adelante”: optimismo\, valor\, resiliencia y compasión. El tema de este año está dedicado a todos los colegas que trabajan en las “primeras filas.” Ellos son la fuerza laboral que mantiene a nuestras familias informadas\, seguras y optimistas de la creación de un mundo sano y justo por el que luchamos.” \nRegistrarte aquí: https://www.nwrpca.org/events/register.aspx?id=1548000&itemid=4b74acfb-7431-42e0-9074-3d197da5dc42
URL:https://extension.wsu.edu/skagit/event/foro-occidental-de-salud-migrante-y-comunitaria-de-2022/
LOCATION:Portland\, OR\, Portland\, OR
CATEGORIES:AgrAbility- Spanish,Spanish Professionals and Providers,Suicide Prevention Events in Spanish
GEO:45.515232;-122.6783853
END:VEVENT
BEGIN:VEVENT
DTSTART;TZID=America/Los_Angeles:20220214T070000
DTEND;TZID=America/Los_Angeles:20220216T140000
DTSTAMP:20260421T182430
CREATED:20211222T205115Z
LAST-MODIFIED:20211222T205115Z
UID:10000377-1644822000-1645020000@extension.wsu.edu
SUMMARY:2022 Western Forum for Migrant and Community Health
DESCRIPTION:“We are currently planning to hold the 2022 Western Forum for Migrant and Community Health in-person and are looking forward to seeing you in Portland\, Oregon next February 14–16! This will be a traditional – slightly scaled-back – in-person event\, with plenty of opportunities to reconnect with peers and colleagues. Per NWRPCA policy\, proof of COVID-19 vaccine will be required to attend the in-person portion of the Forum\, and is required for all participants (attendees\, exhibitors\, speakers\, NWRPCA staff\, etc.) \n  \nThis year’s Western Forum theme: “Adelante: Building Resilience & Strength for a Healthy & Just Recovery” recognizes the journey\, the work\, the innovation\, and the sacrifices we have made over the past couple years by our frontline colleagues\, communities\, and partners. It’s also a promise to the future. A promise to build resilience from adversity\, to nurture strength from loss\, and to commit to create a more just and healthy community. Our frontline community health center and community-based organizations embody the spirit of “Adelante” – optimism\, grit\, resilience\, and compassion. This year’s theme is dedicated to all of our frontline colleagues\, the workforce that kept our families informed\, safe\, and optimistic of the healthy and just world we are striving toward.” \n  \nRegister Here: https://www.nwrpca.org/events/register.aspx?id=1548000&itemid=79de3237-4084-4df4-8ced-13fcc1f16a62
URL:https://extension.wsu.edu/skagit/event/2022-western-forum-for-migrant-and-community-health/
LOCATION:Portland\, OR\, Portland\, OR
CATEGORIES:AgrAbility,Spanish Professionals and Providers,Suicide Prevention Events
GEO:45.515232;-122.6783853
END:VEVENT
END:VCALENDAR