BEGIN:VCALENDAR
VERSION:2.0
PRODID:-//Snohomish County - ECPv6.1.3//NONSGML v1.0//EN
CALSCALE:GREGORIAN
METHOD:PUBLISH
X-ORIGINAL-URL:https://extension.wsu.edu/snohomish
X-WR-CALDESC:Events for Snohomish County
REFRESH-INTERVAL;VALUE=DURATION:PT1H
X-Robots-Tag:noindex
X-PUBLISHED-TTL:PT1H
BEGIN:VTIMEZONE
TZID:America/Los_Angeles
BEGIN:DAYLIGHT
TZOFFSETFROM:-0800
TZOFFSETTO:-0700
TZNAME:PDT
DTSTART:20250309T100000
END:DAYLIGHT
BEGIN:STANDARD
TZOFFSETFROM:-0700
TZOFFSETTO:-0800
TZNAME:PST
DTSTART:20251102T090000
END:STANDARD
END:VTIMEZONE
BEGIN:VEVENT
DTSTART;TZID=America/Los_Angeles:20250823T130000
DTEND;TZID=America/Los_Angeles:20250823T170000
DTSTAMP:20260425T133306
CREATED:20250409T230717Z
LAST-MODIFIED:20250409T230717Z
UID:10000119-1755954000-1755968400@extension.wsu.edu
SUMMARY:Repair Cafe August 2025
DESCRIPTION:Got broken stuff? Toss it? No way! Bring it to a WSU Repair Café!\n\nYou can bring your vacuums\, lamps\, computers (software issues only)\, bikes\, jewelry\, and one of our volunteer fixers will diagnose the issue and do their best to make it usable again. They will show you their process\, order parts if necessary\, and help you learn how to do it yourself with one-on-one instruction. Our fixers can repair your items and keep stuff from going to the landfill!\n\nPlease note:\n\nWe cannot fund the cost of any additional parts needed. If your item needs a part for repair\, our volunteer will contact you to discuss this with you.\nWe don’t guarantee repairs\, and we are not responsible for any damages from attempting to repair an item. So\, you must sign a liability release form before seeing a repair specialist.\nAt these free repair events\, we may decline to work on any item – in advance or at the event – depending on the item\, the type of repair needed\, the fixers available\, or for other reasons. We cannot work on cell phones or Apple products.\nTwo item maximum per meeting. First come\, first served.\nPlease arrive before 4PM for most repairs\, as the last hour is usually filled with completing repairs rather than taking on new projects.\n\nWhat We Repair:\n\nTabletop appliances (e.g. toasters\, blenders\, coffee pots\, etc.)\nOur most popular items: vacuums and lamps\nToys\nBicycles\nComputer software issues (e.g. storage issues\, long loading times\, email\, etc.)\n\nWe cannot take apart complex electronics like phones\, gaming consoles\, laptops\, and Apple products in general\n\n\nClothing mending and small hemming\nSimple jewelry repair (e.g. broken clasp\, missing link\, etc.)\nHome decor\nAnd much more!\n\nSteps To Participate:\n\nArrive at the Snohomish Library between 1pm and 5pm.Repair Specialists will be on-site to help with your item and will work with you on repairing.\n\n\nNext Repair Cafe:\n\nSaturday\, September 20th\n10am – 2pm\nBothell City Hall\n\n\nQuestions?\nContact the WSU Snohomish Sustainable Communities Coordinator Kellee Byard at Kellee.Byard@wsu.eduor via phone at 425-357-6027\n\nWant to be Repair Cafe Volunteer Fixer or learn more about Snohomish County WSU Extension’s Sustainable Community Stewards Program? Visit the Sustainable Community Stewards page. https://tinyurl.com/WSUSustainability
URL:https://extension.wsu.edu/snohomish/event/repair-cafe-august-2025/
LOCATION:Snohomish Library\, 311 Maple Ave\, Snohomish\, WA\, 98290\, United States
CATEGORIES:Sustainable Community Stewards
ATTACH;FMTTYPE=image/png:https://wpcdn.web.wsu.edu/extension/uploads/sites/68/2023/11/LOGO-Repair-Cafe-e1701207662926.png
END:VEVENT
END:VCALENDAR