BEGIN:VCALENDAR
VERSION:2.0
PRODID:-//Snohomish County - ECPv6.1.3//NONSGML v1.0//EN
CALSCALE:GREGORIAN
METHOD:PUBLISH
X-ORIGINAL-URL:https://extension.wsu.edu/snohomish
X-WR-CALDESC:Events for Snohomish County
REFRESH-INTERVAL;VALUE=DURATION:PT1H
X-Robots-Tag:noindex
X-PUBLISHED-TTL:PT1H
BEGIN:VTIMEZONE
TZID:America/Los_Angeles
BEGIN:DAYLIGHT
TZOFFSETFROM:-0800
TZOFFSETTO:-0700
TZNAME:PDT
DTSTART:20260308T100000
END:DAYLIGHT
BEGIN:STANDARD
TZOFFSETFROM:-0700
TZOFFSETTO:-0800
TZNAME:PST
DTSTART:20261101T090000
END:STANDARD
END:VTIMEZONE
BEGIN:VEVENT
DTSTART;TZID=America/Los_Angeles:20260211T183000
DTEND;TZID=America/Los_Angeles:20260211T203000
DTSTAMP:20260421T173506
CREATED:20250801T224547Z
LAST-MODIFIED:20260105T174545Z
UID:10000156-1770834600-1770841800@extension.wsu.edu
SUMMARY:Growing Groceries: Growing on a small scale - in raised beds and containers
DESCRIPTION:  \nLearn how to grow food in small spaces. One of the best ways to maximize a small gardening area is to use containers\, pots and raised beds. These options offer flexibility and control over the growing environment\, making them perfect for beginners or those with limited space. Topics covered include size\, materials\, suitable crops\, drainage\, watering and harvest. \nSpeaker:\nRosy Smit was raised on a dairy farm in Canada and has been involved in growing food and agriculture since a young age.  With an undergraduate degree in Agro-Ecology and a M.Sc. in Soil Science\, she has grown vegetables\, flowers and herbs\, fruit and berries and assorted livestock on commercial and backyard scales and taught food system educational topics to all ages.  She still thinks seed germination is magical and is excited to help more people learn how to grow their own food. \nGrowing Groceries\nIn partnership with WSU Snohomish County Master Gardeners\, the Growing Groceries program brings beginning and experienced gardeners together with speakers and topics focused on growing healthy food using sustainable gardening practices. \nNo matter if you only have a tiny apartment deck\, small garden space\, or plenty of acreage you can grow fresh\, healthy food in a healthier\, more environmentally friendly way. \nDeveloped over the last decade\, our program goal is to increase community access to fresh\, healthy food by teaching the latest research-based techniques for growing food. \nWSU Extension programs and employment are available to all without discrimination. Evidence of noncompliance may be reported through your local extension office. Reasonable accommodations will be made for persons with disabilities and special needs; contact WSU Extension at 425-338-2400 at least two weeks prior to the event. \nWhere\nOnline via Zoom \nCost\nTake just the classes you want at $10 per class or save $20 and take all 15 for $130! \nRegistration\nRegistration is now open for the 2025-2026 Growing Groceries Education series. Visit GrowingGroceries2025.eventbrite.com to register. \nUsing Zoom\nBecause of security issues\, you must have your own Zoom account to participate\, and you must have your Zoom account set up and be registered for the webinar at least three hours before the webinar start time.\nYou can easily create a free Zoom account if you do not already have one. Be sure you register with the same name and email address that you used for creating your Zoom account. \nOther classes in the series… \n 
URL:https://extension.wsu.edu/snohomish/event/growing-groceries-growing-broccoli-kale-cabbage-and-rhubarb/
LOCATION:Online via Zoom\, WA
CATEGORIES:Agriculture Events,All Events,Home & Garden Event,Sustainable Community Stewards
ATTACH;FMTTYPE=image/jpeg:https://wpcdn.web.wsu.edu/extension/uploads/sites/68/2020/12/red-russian-kale.jpg
ORGANIZER;CN="Rosy%20Smit":MAILTO:rosy.smit@wsu.edu
END:VEVENT
END:VCALENDAR