BEGIN:VCALENDAR
VERSION:2.0
PRODID:-//Snohomish County - ECPv6.1.3//NONSGML v1.0//EN
CALSCALE:GREGORIAN
METHOD:PUBLISH
X-ORIGINAL-URL:https://extension.wsu.edu/snohomish
X-WR-CALDESC:Events for Snohomish County
REFRESH-INTERVAL;VALUE=DURATION:PT1H
X-Robots-Tag:noindex
X-PUBLISHED-TTL:PT1H
BEGIN:VTIMEZONE
TZID:America/Los_Angeles
BEGIN:DAYLIGHT
TZOFFSETFROM:-0800
TZOFFSETTO:-0700
TZNAME:PDT
DTSTART:20260308T100000
END:DAYLIGHT
BEGIN:STANDARD
TZOFFSETFROM:-0700
TZOFFSETTO:-0800
TZNAME:PST
DTSTART:20261101T090000
END:STANDARD
END:VTIMEZONE
BEGIN:VEVENT
DTSTART;VALUE=DATE:20260307
DTEND;VALUE=DATE:20260309
DTSTAMP:20260421T181910
CREATED:20260117T015919Z
LAST-MODIFIED:20260117T020045Z
UID:10000194-1772841600-1773014399@extension.wsu.edu
SUMMARY:4-H Tack Sale
DESCRIPTION:Need horse tack?  Get it at the 4-H Tack Sale!  This is the primary fundraiser for the Snohomish County 4-H Horse Program. \nHave horse tack to donate or consign?  Contact snoco4htacksale@gmail.com \n 
URL:https://extension.wsu.edu/snohomish/event/4-h-tack-sale/
LOCATION:Evergreen State Fairgrounds\, 14405 - 179th Ave SE\, Monroe\, WA\, 98272\, United States
CATEGORIES:4-H Events
GEO:47.8681277;-121.9888055
X-APPLE-STRUCTURED-LOCATION;VALUE=URI;X-ADDRESS=Evergreen State Fairgrounds 14405 - 179th Ave SE Monroe WA 98272 United States;X-APPLE-RADIUS=500;X-TITLE=14405 - 179th Ave SE:geo:-121.9888055,47.8681277
END:VEVENT
END:VCALENDAR