BEGIN:VCALENDAR
VERSION:2.0
PRODID:-//Snohomish County - ECPv6.1.3//NONSGML v1.0//EN
CALSCALE:GREGORIAN
METHOD:PUBLISH
X-ORIGINAL-URL:https://extension.wsu.edu/snohomish
X-WR-CALDESC:Events for Snohomish County
REFRESH-INTERVAL;VALUE=DURATION:PT1H
X-Robots-Tag:noindex
X-PUBLISHED-TTL:PT1H
BEGIN:VTIMEZONE
TZID:America/Los_Angeles
BEGIN:DAYLIGHT
TZOFFSETFROM:-0800
TZOFFSETTO:-0700
TZNAME:PDT
DTSTART:20260308T100000
END:DAYLIGHT
BEGIN:STANDARD
TZOFFSETFROM:-0700
TZOFFSETTO:-0800
TZNAME:PST
DTSTART:20261101T090000
END:STANDARD
END:VTIMEZONE
BEGIN:VEVENT
DTSTART;TZID=America/Los_Angeles:20260404T093000
DTEND;TZID=America/Los_Angeles:20260404T113000
DTSTAMP:20260419T223657
CREATED:20251206T234615Z
LAST-MODIFIED:20260209T220802Z
UID:10000177-1775295000-1775302200@extension.wsu.edu
SUMMARY:Winter Speaker Series
DESCRIPTION:Annual Winter Speaker Series\n\nSingle tickets available at the door!\nEvery year between January and April\, Snohomish County Master Gardeners sponsor a lecture series featuring celebrity gardeners\, authors and subject matter experts on a variety of gardening subjects. Please go to https://gardenlectures.com for more details!
URL:https://extension.wsu.edu/snohomish/event/winter-speaker-series/
END:VEVENT
END:VCALENDAR