BEGIN:VCALENDAR
VERSION:2.0
PRODID:-//Snohomish County - ECPv6.1.3//NONSGML v1.0//EN
CALSCALE:GREGORIAN
METHOD:PUBLISH
X-ORIGINAL-URL:https://extension.wsu.edu/snohomish
X-WR-CALDESC:Events for Snohomish County
REFRESH-INTERVAL;VALUE=DURATION:PT1H
X-Robots-Tag:noindex
X-PUBLISHED-TTL:PT1H
BEGIN:VTIMEZONE
TZID:America/Los_Angeles
BEGIN:DAYLIGHT
TZOFFSETFROM:-0800
TZOFFSETTO:-0700
TZNAME:PDT
DTSTART:20260308T100000
END:DAYLIGHT
BEGIN:STANDARD
TZOFFSETFROM:-0700
TZOFFSETTO:-0800
TZNAME:PST
DTSTART:20261101T090000
END:STANDARD
END:VTIMEZONE
BEGIN:VEVENT
DTSTART;TZID=America/Los_Angeles:20260331T174500
DTEND;TZID=America/Los_Angeles:20260331T190000
DTSTAMP:20260419T151339
CREATED:20260326T173644Z
LAST-MODIFIED:20260326T205310Z
UID:10000283-1774979100-1774983600@extension.wsu.edu
SUMMARY:Join Us for a Free Viewing of the Documentary "Women's Work: The Untold Story of America's Female Farmers"
DESCRIPTION:On Tuesday\, March 31st\, WSU Extension Snohomish County will screen the documentary “Women’s Work: The Untold Story of America’s Female Farmers” at Willis Tucker Community Park. We hope you’ll join us. \nOffering a unique perspective on the contributions of female farmers in America\, this documentary features insightful interviews\, highlights the resilience and creativity of women in agriculture and showcases women’s diverse backgrounds and agricultural practices across the nation. It serves as a tribute to the vital role women have played in shaping the future of agriculture and aims to educate viewers about the often-overlooked contributions of women in this field. \nWhat time? 5:45pm -Doors Open\, 6:00pm -Film Starts\nWhere: Gary Weikel Room at Willis D. Tucker Community Park \n  \n 
URL:https://extension.wsu.edu/snohomish/event/join-us-for-a-free-viewing-of-the-documentary-womens-work-the-untold-story-of-americas-female-farmers/
LOCATION:Willis Tucker Park\, 6705 Puget Park Drvie\, Snohomish\, WA\, 98296\, United States
CATEGORIES:Agriculture Events
END:VEVENT
END:VCALENDAR