BEGIN:VCALENDAR
VERSION:2.0
PRODID:-//Snohomish County - ECPv6.1.3//NONSGML v1.0//EN
CALSCALE:GREGORIAN
METHOD:PUBLISH
X-WR-CALNAME:Snohomish County
X-ORIGINAL-URL:https://extension.wsu.edu/snohomish
X-WR-CALDESC:Events for Snohomish County
REFRESH-INTERVAL;VALUE=DURATION:PT1H
X-Robots-Tag:noindex
X-PUBLISHED-TTL:PT1H
BEGIN:VTIMEZONE
TZID:America/Los_Angeles
BEGIN:DAYLIGHT
TZOFFSETFROM:-0800
TZOFFSETTO:-0700
TZNAME:PDT
DTSTART:20250309T100000
END:DAYLIGHT
BEGIN:STANDARD
TZOFFSETFROM:-0700
TZOFFSETTO:-0800
TZNAME:PST
DTSTART:20251102T090000
END:STANDARD
BEGIN:DAYLIGHT
TZOFFSETFROM:-0800
TZOFFSETTO:-0700
TZNAME:PDT
DTSTART:20260308T100000
END:DAYLIGHT
BEGIN:STANDARD
TZOFFSETFROM:-0700
TZOFFSETTO:-0800
TZNAME:PST
DTSTART:20261101T090000
END:STANDARD
END:VTIMEZONE
BEGIN:VEVENT
DTSTART;TZID=America/Los_Angeles:20250424T140000
DTEND;TZID=America/Los_Angeles:20250424T180000
DTSTAMP:20260419T134352
CREATED:20241217T233557Z
LAST-MODIFIED:20241217T233557Z
UID:10000096-1745503200-1745517600@extension.wsu.edu
SUMMARY:Repair Cafe April 2025
DESCRIPTION:Got broken stuff? Toss it? No way! Bring it to a WSU Repair Café!\n\nYou can bring your vacuums\, lamps\, computers (software issues only)\, bikes\, jewelry\, and one of our volunteer fixers will diagnose the issue and do their best to make it usable again. They will show you their process\, order parts if necessary\, and help you learn how to do it yourself with one-on-one instruction. Our fixers can repair your items and keep stuff from going to the landfill!\n\nPlease note:\n\nWe cannot fund the cost of any additional parts needed. If your item needs a part for repair\, our volunteer will contact you to discuss this with you.\nWe don’t guarantee repairs\, and we are not responsible for any damages from attempting to repair an item. So\, you must sign a liability release form before seeing a repair specialist.\nAt these free repair events\, we may decline to work on any item – in advance or at the event – depending on the item\, the type of repair needed\, the fixers available\, or for other reasons. We cannot work on cell phones or Apple products.\nTwo item maximum per meeting. First come\, first served.\nPlease arrive before 1PM for most repairs\, as the last hour is usually filled with completing repairs rather than taking on new projects.\n\nWhat We Repair:\n\nTabletop appliances (e.g. toasters\, blenders\, coffee pots\, etc.)\nOur most popular items: vacuums and lamps\nToys\nBicycles\nComputer software issues (e.g. storage issues\, long loading times\, email\, etc.)\n\nWe cannot take apart complex electronics like phones\, gaming consoles\, laptops\, and Apple products in general\n\n\nClothing mending and small hemming\nSimple jewelry repair (e.g. broken clasp\, missing link\, etc.)\nHome decor\nAnd much more!\n\nSteps To Participate:\n\nArrive at Discovery Hall on the UW Bothell campus and head to the Collaboratory room 152 between 2pm and 5pm.\nBike repairs will take place outdoors outside of Commons Hall.\nRepair Specialists will be on-site to help with your item and will work with you on repairing.\n\n\nNext Repair Cafe:\n\nSaturday\, May 17th\n10AM to 2PM\nWSU Everett\n\n\nQuestions?\nContact the WSU Snohomish Sustainable Communities Coordinator Kellee Byard at Kellee.Byard@wsu.eduor via phone at 425-357-6027\n\nWant to be Repair Cafe Volunteer Fixer or learn more about Snohomish County WSU Extension’s Sustainable Community Stewards Program? Visit the Sustainable Community Stewards page. https://tinyurl.com/WSUSustainability
URL:https://extension.wsu.edu/snohomish/event/repair-cafe-april-2025/
LOCATION:UW Bothell\, 18115 Campus Way NE\, Bothell\, WA\, 98011\, United States
CATEGORIES:Sustainable Community Stewards
ATTACH;FMTTYPE=image/png:https://wpcdn.web.wsu.edu/extension/uploads/sites/68/2023/11/LOGO-Repair-Cafe-e1701207662926.png
END:VEVENT
BEGIN:VEVENT
DTSTART;TZID=America/Los_Angeles:20260408T140000
DTEND;TZID=America/Los_Angeles:20260408T180000
DTSTAMP:20260419T134352
CREATED:20260217T223033Z
LAST-MODIFIED:20260217T223110Z
UID:10000198-1775656800-1775671200@extension.wsu.edu
SUMMARY:Repair Cafe
DESCRIPTION:Got broken stuff? Toss it? No way! Bring it to a WSU Repair Café!\nYou can bring your household goods and our fixers will diagnose the issue and do their best to make it usable again. They will show you their process\, order parts if necessary\, and help you learn how to do it yourself with one-on-one instruction. Our fixers can repair your items and keep stuff from being tossed in the landfill!\n\n\nSteps To Participate:\n\nArrive at the Collaboratory at UW Bothell between 2pm and 6pm.\nRepair Specialists will be on-site to help with your item and will work with you on repairing.\nPlease arrive before 5PM for most repairs\, as the last hour is usually filled with completing repairs rather than taking on new projects.\n\n\nPlease note:\n\nWe cannot fund the cost of any additional parts needed. If your item needs a part for repair\, our volunteer will contact you to discuss this with you.\nWe don’t guarantee repairs\, and we are not responsible for any damages from attempting to repair an item. So\, you must sign a liability release form before seeing a repair specialist.\nAt these free repair events\, we may decline to work on any item – in advance or at the event – depending on the item\, the type of repair needed\, the fixers available\, or for other reasons. We cannot work on cell phone batteries or screens\, or Apple product hardware.\nTwo item maximum per event. First come\, first served.\n\n\nWhat We Repair:\n\nTabletop appliances (e.g. toasters\, blenders\, coffee pots\, etc.)\nOur most popular items: vacuums and lamps\n\nPLEASE EMPTY VACUUMS PRIOR TO EVENT\n\n\nToys\nBicycles\nComputer software issues (e.g. storage issues\, long loading times\, email\, etc.)\n\nWe can install Linux OS on computers with Windows 10 that is no longer supported.\n\n\nClothing mending and small hemming\nSimple jewelry repair (e.g. broken clasp\, missing link\, etc.)\nHome decor\nAnd more! Have a question about an item? Contact us using the info at the bottom.\n\nNext Repair Cafe:\n\nSaturday\, May 9th\n10am to 2pm\nEdmonds Library\n\n\n\n\nQuestions?\nContact the WSU Snohomish Sustainable Communities Coordinator Kellee Byard at Kellee.Byard@wsu.eduor via phone at 425-357-6027\n\nWant to be Repair Cafe Volunteer Fixer or learn more about Snohomish County WSU Extension’s Sustainable Community Stewards Program? Visit the Sustainable Community Stewards page. https://tinyurl.com/WSUSustainability
URL:https://extension.wsu.edu/snohomish/event/repair-cafe-3/
LOCATION:UW Bothell\, 18115 Campus Way NE\, Bothell\, WA\, 98011\, United States
CATEGORIES:Natural Resources Event,Sustainable Community Stewards
ATTACH;FMTTYPE=image/png:https://wpcdn.web.wsu.edu/extension/uploads/sites/68/2023/11/LOGO-Repair-Cafe-e1701207662926.png
END:VEVENT
END:VCALENDAR