BEGIN:VCALENDAR
VERSION:2.0
PRODID:-//Spokane County - ECPv6.1.3//NONSGML v1.0//EN
CALSCALE:GREGORIAN
METHOD:PUBLISH
X-WR-CALNAME:Spokane County
X-ORIGINAL-URL:https://extension.wsu.edu/spokane
X-WR-CALDESC:Events for Spokane County
REFRESH-INTERVAL;VALUE=DURATION:PT1H
X-Robots-Tag:noindex
X-PUBLISHED-TTL:PT1H
BEGIN:VTIMEZONE
TZID:America/Los_Angeles
BEGIN:DAYLIGHT
TZOFFSETFROM:-0800
TZOFFSETTO:-0700
TZNAME:PDT
DTSTART:20260308T100000
END:DAYLIGHT
BEGIN:STANDARD
TZOFFSETFROM:-0700
TZOFFSETTO:-0800
TZNAME:PST
DTSTART:20261101T090000
END:STANDARD
END:VTIMEZONE
BEGIN:VEVENT
DTSTART;TZID=America/Los_Angeles:20260508T000000
DTEND;TZID=America/Los_Angeles:20260508T170000
DTSTAMP:20260419T134353
CREATED:20251205T215138Z
LAST-MODIFIED:20251205T215138Z
UID:10003417-1778198400-1778259600@extension.wsu.edu
SUMMARY:Hike and Poetry reading with Derek Sheffield
DESCRIPTION:WA Poet Laureate\, TBD details
URL:https://extension.wsu.edu/spokane/event/hike-and-poetry-reading-with-derek-sheffield/2026-05-08/
CATEGORIES:WA Naturalists
ATTACH;FMTTYPE=image/png:https://wpcdn.web.wsu.edu/extension/uploads/sites/44/2025/11/WA-State-Naturalist-color-768x218-1.png
END:VEVENT
END:VCALENDAR