BEGIN:VCALENDAR
VERSION:2.0
PRODID:-//Spokane County - ECPv6.1.3//NONSGML v1.0//EN
CALSCALE:GREGORIAN
METHOD:PUBLISH
X-ORIGINAL-URL:https://extension.wsu.edu/spokane
X-WR-CALDESC:Events for Spokane County
REFRESH-INTERVAL;VALUE=DURATION:PT1H
X-Robots-Tag:noindex
X-PUBLISHED-TTL:PT1H
BEGIN:VTIMEZONE
TZID:America/Los_Angeles
BEGIN:DAYLIGHT
TZOFFSETFROM:-0800
TZOFFSETTO:-0700
TZNAME:PDT
DTSTART:20260308T100000
END:DAYLIGHT
BEGIN:STANDARD
TZOFFSETFROM:-0700
TZOFFSETTO:-0800
TZNAME:PST
DTSTART:20261101T090000
END:STANDARD
END:VTIMEZONE
BEGIN:VEVENT
DTSTART;TZID=America/Los_Angeles:20260613T130000
DTEND;TZID=America/Los_Angeles:20260613T150000
DTSTAMP:20260419T072329
CREATED:20260217T010154Z
LAST-MODIFIED:20260217T010155Z
UID:10003432-1781355600-1781362800@extension.wsu.edu
SUMMARY:Let's Soar Drone Program
DESCRIPTION:The Let’s Soar 4-H Club’s Drone Program allows youth ages 8-18 to gain hands-on experience in safe drone flight\, airspace awareness\, mission planning\, and insight into aviation careers. Members build skills progressively while learning responsibility\, ethics\, and professionalism. Monthly drone meetings are held the 2nd Saturday of each month\, 1–3 PM at 222 N Havana St in Spokane\, and youth must enroll online before attending. The Let’s Soar club business meeting is held the 3rd Saturday of each month\, and students must take and pass the FAA’s “The Recreational UAS Safety Test (TRUST)” test before being allowed to fly. Contact Ann Michel at letssoar4h@gmail.com if you have questions
URL:https://extension.wsu.edu/spokane/event/lets-soar-drone-program/2026-06-13/
END:VEVENT
END:VCALENDAR