BEGIN:VCALENDAR
VERSION:2.0
PRODID:-//Spokane County - ECPv6.1.3//NONSGML v1.0//EN
CALSCALE:GREGORIAN
METHOD:PUBLISH
X-ORIGINAL-URL:https://extension.wsu.edu/spokane
X-WR-CALDESC:Events for Spokane County
REFRESH-INTERVAL;VALUE=DURATION:PT1H
X-Robots-Tag:noindex
X-PUBLISHED-TTL:PT1H
BEGIN:VTIMEZONE
TZID:America/Los_Angeles
BEGIN:DAYLIGHT
TZOFFSETFROM:-0800
TZOFFSETTO:-0700
TZNAME:PDT
DTSTART:20260308T100000
END:DAYLIGHT
BEGIN:STANDARD
TZOFFSETFROM:-0700
TZOFFSETTO:-0800
TZNAME:PST
DTSTART:20261101T090000
END:STANDARD
END:VTIMEZONE
BEGIN:VEVENT
DTSTART;TZID=America/Los_Angeles:20260619T000000
DTEND;TZID=America/Los_Angeles:20260619T235959
DTSTAMP:20260419T072329
CREATED:20251103T211822Z
LAST-MODIFIED:20251103T211823Z
UID:10003317-1781827200-1781913599@extension.wsu.edu
SUMMARY:CLOSED
DESCRIPTION:
URL:https://extension.wsu.edu/spokane/event/closed-17/
LOCATION:WSU Spokane County Extension\, 222 N Havana St\, Spokane\, WA\, 99202\, United States
CATEGORIES:Public
ATTACH;FMTTYPE=image/jpeg:https://wpcdn.web.wsu.edu/extension/uploads/sites/44/2023/10/SpokaneCountyLogo.jpg
GEO:47.6599252;-117.3460574
X-APPLE-STRUCTURED-LOCATION;VALUE=URI;X-ADDRESS=WSU Spokane County Extension 222 N Havana St Spokane WA 99202 United States;X-APPLE-RADIUS=500;X-TITLE=222 N Havana St:geo:-117.3460574,47.6599252
END:VEVENT
END:VCALENDAR