BEGIN:VCALENDAR
VERSION:2.0
PRODID:-//Stevens County - ECPv6.1.3//NONSGML v1.0//EN
CALSCALE:GREGORIAN
METHOD:PUBLISH
X-WR-CALNAME:Stevens County
X-ORIGINAL-URL:https://extension.wsu.edu/stevens
X-WR-CALDESC:Events for Stevens County
REFRESH-INTERVAL;VALUE=DURATION:PT1H
X-Robots-Tag:noindex
X-PUBLISHED-TTL:PT1H
BEGIN:VTIMEZONE
TZID:America/Los_Angeles
BEGIN:DAYLIGHT
TZOFFSETFROM:-0800
TZOFFSETTO:-0700
TZNAME:PDT
DTSTART:20250309T100000
END:DAYLIGHT
BEGIN:STANDARD
TZOFFSETFROM:-0700
TZOFFSETTO:-0800
TZNAME:PST
DTSTART:20251102T090000
END:STANDARD
END:VTIMEZONE
BEGIN:VEVENT
DTSTART;TZID=America/Los_Angeles:20250509T110000
DTEND;TZID=America/Los_Angeles:20250509T153000
DTSTAMP:20260419T223737
CREATED:20250423T234401Z
LAST-MODIFIED:20250424T000239Z
UID:10000468-1746788400-1746804600@extension.wsu.edu
SUMMARY:Master Gardener Booth at Chewelah Farmers Market
DESCRIPTION:Master Gardeners Booth will have 1-2 people available to answer questions\, provide information and/or publications on season-relevant subjects\, and occasionally provide a demonstration!
URL:https://extension.wsu.edu/stevens/event/master-gardener-booth-at-chewelah-farmers-market/2025-05-09/
LOCATION:Chewelah City Park\, 501 N 3rd St E\, Chewelah\, WA\, 99109\, United States
CATEGORIES:MG
END:VEVENT
BEGIN:VEVENT
DTSTART;TZID=America/Los_Angeles:20250523T110000
DTEND;TZID=America/Los_Angeles:20250523T153000
DTSTAMP:20260419T223737
CREATED:20250423T234401Z
LAST-MODIFIED:20250424T000239Z
UID:10000469-1747998000-1748014200@extension.wsu.edu
SUMMARY:Master Gardener Booth at Chewelah Farmers Market
DESCRIPTION:Master Gardeners Booth will have 1-2 people available to answer questions\, provide information and/or publications on season-relevant subjects\, and occasionally provide a demonstration!
URL:https://extension.wsu.edu/stevens/event/master-gardener-booth-at-chewelah-farmers-market/2025-05-23/
LOCATION:Chewelah City Park\, 501 N 3rd St E\, Chewelah\, WA\, 99109\, United States
CATEGORIES:MG
END:VEVENT
BEGIN:VEVENT
DTSTART;TZID=America/Los_Angeles:20250613T110000
DTEND;TZID=America/Los_Angeles:20250613T153000
DTSTAMP:20260419T223737
CREATED:20250423T235044Z
LAST-MODIFIED:20250424T000152Z
UID:10000477-1749812400-1749828600@extension.wsu.edu
SUMMARY:Master Gardener Booth at Chewelah Farmers Market
DESCRIPTION:Master Gardeners Booth will have 1-2 people available to answer questions\, provide information and/or publications on season-relevant subjects\, and occasionally provide a demonstration!
URL:https://extension.wsu.edu/stevens/event/master-gardener-booth-at-chewelah-farmers-market-copy/
LOCATION:Chewelah City Park\, 501 N 3rd St E\, Chewelah\, WA\, 99109\, United States
CATEGORIES:MG
END:VEVENT
BEGIN:VEVENT
DTSTART;TZID=America/Los_Angeles:20250627T110000
DTEND;TZID=America/Los_Angeles:20250627T153000
DTSTAMP:20260419T223737
CREATED:20250626T220406Z
LAST-MODIFIED:20250922T222901Z
UID:10000478-1751022000-1751038200@extension.wsu.edu
SUMMARY:Master Gardener Booth at Chewelah Farmers Market
DESCRIPTION:Master Gardeners Booth will have 1-2 people available to answer questions\, provide information and/or publications on season-relevant subjects! \nPressure Gauge testing will be offered during July\, August\, and September dates.
URL:https://extension.wsu.edu/stevens/event/master-gardener-booth-at-chewelah-farmers-market-copy-2/2025-06-27/
LOCATION:Chewelah City Park\, 501 N 3rd St E\, Chewelah\, WA\, 99109\, United States
CATEGORIES:MG
END:VEVENT
BEGIN:VEVENT
DTSTART;TZID=America/Los_Angeles:20250711T110000
DTEND;TZID=America/Los_Angeles:20250711T153000
DTSTAMP:20260419T223737
CREATED:20250626T220406Z
LAST-MODIFIED:20250922T222901Z
UID:10000479-1752231600-1752247800@extension.wsu.edu
SUMMARY:Master Gardener Booth at Chewelah Farmers Market
DESCRIPTION:Master Gardeners Booth will have 1-2 people available to answer questions\, provide information and/or publications on season-relevant subjects! \nPressure Gauge testing will be offered during July\, August\, and September dates.
URL:https://extension.wsu.edu/stevens/event/master-gardener-booth-at-chewelah-farmers-market-copy-2/2025-07-11/
LOCATION:Chewelah City Park\, 501 N 3rd St E\, Chewelah\, WA\, 99109\, United States
CATEGORIES:MG
END:VEVENT
BEGIN:VEVENT
DTSTART;TZID=America/Los_Angeles:20250725T110000
DTEND;TZID=America/Los_Angeles:20250725T153000
DTSTAMP:20260419T223737
CREATED:20250626T220406Z
LAST-MODIFIED:20250922T222901Z
UID:10000567-1753441200-1753457400@extension.wsu.edu
SUMMARY:Master Gardener Booth at Chewelah Farmers Market
DESCRIPTION:Master Gardeners Booth will have 1-2 people available to answer questions\, provide information and/or publications on season-relevant subjects! \nPressure Gauge testing will be offered during July\, August\, and September dates.
URL:https://extension.wsu.edu/stevens/event/master-gardener-booth-at-chewelah-farmers-market-copy-2/2025-07-25/
LOCATION:Chewelah City Park\, 501 N 3rd St E\, Chewelah\, WA\, 99109\, United States
CATEGORIES:MG
END:VEVENT
BEGIN:VEVENT
DTSTART;TZID=America/Los_Angeles:20250808T110000
DTEND;TZID=America/Los_Angeles:20250808T153000
DTSTAMP:20260419T223737
CREATED:20250626T220406Z
LAST-MODIFIED:20250922T222901Z
UID:10000480-1754650800-1754667000@extension.wsu.edu
SUMMARY:Master Gardener Booth at Chewelah Farmers Market
DESCRIPTION:Master Gardeners Booth will have 1-2 people available to answer questions\, provide information and/or publications on season-relevant subjects! \nPressure Gauge testing will be offered during July\, August\, and September dates.
URL:https://extension.wsu.edu/stevens/event/master-gardener-booth-at-chewelah-farmers-market-copy-2/2025-08-08/
LOCATION:Chewelah City Park\, 501 N 3rd St E\, Chewelah\, WA\, 99109\, United States
CATEGORIES:MG
END:VEVENT
BEGIN:VEVENT
DTSTART;TZID=America/Los_Angeles:20250912T110000
DTEND;TZID=America/Los_Angeles:20250912T153000
DTSTAMP:20260419T223737
CREATED:20250626T220406Z
LAST-MODIFIED:20250922T222901Z
UID:10000481-1757674800-1757691000@extension.wsu.edu
SUMMARY:Master Gardener Booth at Chewelah Farmers Market
DESCRIPTION:Master Gardeners Booth will have 1-2 people available to answer questions\, provide information and/or publications on season-relevant subjects! \nPressure Gauge testing will be offered during July\, August\, and September dates.
URL:https://extension.wsu.edu/stevens/event/master-gardener-booth-at-chewelah-farmers-market-copy-2/2025-09-12/
LOCATION:Chewelah City Park\, 501 N 3rd St E\, Chewelah\, WA\, 99109\, United States
CATEGORIES:MG
END:VEVENT
BEGIN:VEVENT
DTSTART;TZID=America/Los_Angeles:20251010T110000
DTEND;TZID=America/Los_Angeles:20251010T153000
DTSTAMP:20260419T223737
CREATED:20250626T220406Z
LAST-MODIFIED:20250922T222901Z
UID:10000583-1760094000-1760110200@extension.wsu.edu
SUMMARY:Master Gardener Booth at Chewelah Farmers Market
DESCRIPTION:Master Gardeners Booth will have 1-2 people available to answer questions\, provide information and/or publications on season-relevant subjects! \nPressure Gauge testing will be offered during July\, August\, and September dates.
URL:https://extension.wsu.edu/stevens/event/master-gardener-booth-at-chewelah-farmers-market-copy-2/2025-10-10/
LOCATION:Chewelah City Park\, 501 N 3rd St E\, Chewelah\, WA\, 99109\, United States
CATEGORIES:MG
END:VEVENT
END:VCALENDAR