BEGIN:VCALENDAR
VERSION:2.0
PRODID:-//Yakima County - ECPv6.1.3//NONSGML v1.0//EN
CALSCALE:GREGORIAN
METHOD:PUBLISH
X-ORIGINAL-URL:https://extension.wsu.edu/yakima
X-WR-CALDESC:Events for Yakima County
REFRESH-INTERVAL;VALUE=DURATION:PT1H
X-Robots-Tag:noindex
X-PUBLISHED-TTL:PT1H
BEGIN:VTIMEZONE
TZID:America/Los_Angeles
BEGIN:DAYLIGHT
TZOFFSETFROM:-0800
TZOFFSETTO:-0700
TZNAME:PDT
DTSTART:20250309T100000
END:DAYLIGHT
BEGIN:STANDARD
TZOFFSETFROM:-0700
TZOFFSETTO:-0800
TZNAME:PST
DTSTART:20251102T090000
END:STANDARD
END:VTIMEZONE
BEGIN:VEVENT
DTSTART;TZID=America/Los_Angeles:20250531T000000
DTEND;TZID=America/Los_Angeles:20250531T235959
DTSTAMP:20260420T183635
CREATED:20250422T231744Z
LAST-MODIFIED:20250422T231825Z
UID:10000184-1748649600-1748735999@extension.wsu.edu
SUMMARY:Deadline for Dairy Certificates
DESCRIPTION:Attention 4-H members exhibiting dairy cattle at Yakima Valley Fair & Rodeo – Dairy Certificates are due May 31st! \n\n\n\nPlease ensure that your certificate is complete\, by obtaining the following signatures: \n\n\n\n\nMember\n\n\n\nGuardian\n\n\n\n4-H Leader\n\n\n\nExtension Office Faculty\n\n\n\n\nYou may request a signature from the Extension Office by coming to the office or attaching the document by email to Yakima.4H@wsu.edu \n\n\n\nAll signed & completed certificates must be submitted by email to the YVFR superintendents\, Jared & Karen Sheehan at JKDairy2003@gmail.com\, no later than May 31st!
URL:https://extension.wsu.edu/yakima/event/deadline-for-dairy-certificates/
LOCATION:Yakima Valley Fair & Rodeo\, 812 Wallace Way\, Grandview\, Washington\, 98930\, United States
CATEGORIES:4-H
ORGANIZER;CN="Karen%20Sheehan":MAILTO:jkdairy2003@gmail.com
END:VEVENT
BEGIN:VEVENT
DTSTART;TZID=America/Los_Angeles:20250415T000000
DTEND;TZID=America/Los_Angeles:20250415T235959
DTSTAMP:20260420T183635
CREATED:20250408T135608Z
LAST-MODIFIED:20250408T234139Z
UID:10000164-1744675200-1744761599@extension.wsu.edu
SUMMARY:Application Deadline for the Yakima Valley Dairy Ambassador Opportunity
DESCRIPTION:The Yakima Valley Dairy Women are now taking applications for the 2025-26 Yakima Valley Dairy Ambassador program. Applications are due April 15th. Contact Karen Sheehan for more information at jkdairy2003@gmail.com or by calling 509-840-0373.
URL:https://extension.wsu.edu/yakima/event/deadline-to-apply-for-the-yakima-valley-dairy-ambassador-opportunity/
CATEGORIES:4-H
ORGANIZER;CN="Karen%20Sheehan":MAILTO:jkdairy2003@gmail.com
END:VEVENT
END:VCALENDAR