BEGIN:VCALENDAR
VERSION:2.0
PRODID:-//Yakima County - ECPv6.1.3//NONSGML v1.0//EN
CALSCALE:GREGORIAN
METHOD:PUBLISH
X-WR-CALNAME:Yakima County
X-ORIGINAL-URL:https://extension.wsu.edu/yakima
X-WR-CALDESC:Events for Yakima County
REFRESH-INTERVAL;VALUE=DURATION:PT1H
X-Robots-Tag:noindex
X-PUBLISHED-TTL:PT1H
BEGIN:VTIMEZONE
TZID:America/Los_Angeles
BEGIN:DAYLIGHT
TZOFFSETFROM:-0800
TZOFFSETTO:-0700
TZNAME:PDT
DTSTART:20260308T100000
END:DAYLIGHT
BEGIN:STANDARD
TZOFFSETFROM:-0700
TZOFFSETTO:-0800
TZNAME:PST
DTSTART:20261101T090000
END:STANDARD
END:VTIMEZONE
BEGIN:VEVENT
DTSTART;TZID=America/Los_Angeles:20260521T080000
DTEND;TZID=America/Los_Angeles:20260521T110000
DTSTAMP:20260421T183956
CREATED:20260407T235534Z
LAST-MODIFIED:20260407T235534Z
UID:10000482-1779350400-1779361200@extension.wsu.edu
SUMMARY:Tag Pick up at Yakima Valley Fair & Rodeo - Steer and Dairy Springers
DESCRIPTION:NEW for 2026 is our Dairy Springer Market Class! At arrival at fair the Heifer must be pregnant a minimum of 160 days (preferably between 200 and 250 days) and have all the Dairy heifer vaccinations. (at 12 months: Bovishield Gold 5 +L5\, Calvary 9\, Deworming & Magnet. At pregnancy confirmation: Lepto 5) For those wishing to participate with the Springer Division\, be advised that this will count as one of your two market animals. We are very excited for this new market class! \n\n\n\nAll market animals will require a picture of their Scrapie ID or 840 tags when you register. You will not be able to proceed with registration without it. \n\n\n\nImportant Dates: \n\n\n\n\nSteer and Dairy Springers – Registration closed March 20th and tag pick up was March 21st from 8:00 -10:00 am at the YVFR Grounds.\n\n\n\nGoats\, sheep\, and swine – Registration closes May 29th and tag pick up is May 30th from 8:00 – 11:00 am at the YVFR Grounds.\n\n\n\n\nPlease email registeryvfr@gmail.com with any registration issues or questions. \n\n\n\nBe sure to check out the important announcements on the YVFR Exhibitors & Parents group page.
URL:https://extension.wsu.edu/yakima/event/tag-pick-up-at-yakima-valley-fair-rodeo-steer-and-dairy-springers/
LOCATION:Yakima Valley Fair & Rodeo\, 812 Wallace Way\, Grandview\, Washington\, 98930\, United States
CATEGORIES:4-H
ORGANIZER;CN="Yakima%20Valley%20Fair%20%26amp%3B%20Rodeo":MAILTO:yakimavalleyfair.rodeo@gmail.com
END:VEVENT
BEGIN:VEVENT
DTSTART;TZID=America/Los_Angeles:20260529T000000
DTEND;TZID=America/Los_Angeles:20260529T235959
DTSTAMP:20260421T183956
CREATED:20260407T235310Z
LAST-MODIFIED:20260407T235311Z
UID:10000480-1780012800-1780099199@extension.wsu.edu
SUMMARY:Registration Closes for Yakima Valley Fair & Rodeo - Goats\, sheep\, and swine
DESCRIPTION:NEW for 2026 is our Dairy Springer Market Class! At arrival at fair the Heifer must be pregnant a minimum of 160 days (preferably between 200 and 250 days) and have all the Dairy heifer vaccinations. (at 12 months: Bovishield Gold 5 +L5\, Calvary 9\, Deworming & Magnet. At pregnancy confirmation: Lepto 5) For those wishing to participate with the Springer Division\, be advised that this will count as one of your two market animals. We are very excited for this new market class! \n\n\n\nAll market animals will require a picture of their Scrapie ID or 840 tags when you register. You will not be able to proceed with registration without it. \n\n\n\nImportant Dates: \n\n\n\n\nSteer and Dairy Springers – Registration closed March 20th and tag pick up was March 21st from 8:00 -10:00 am at the YVFR Grounds.\n\n\n\nGoats\, sheep\, and swine – Registration closes May 29th and tag pick up is May 30th from 8:00 – 11:00 am at the YVFR Grounds.\n\n\n\n\nPlease email registeryvfr@gmail.com with any registration issues or questions. \n\n\n\nBe sure to check out the important announcements on the YVFR Exhibitors & Parents group page.
URL:https://extension.wsu.edu/yakima/event/registration-closes-for-yakima-valley-fair-rodeo-goats-sheep-and-swine/
LOCATION:Yakima Valley Fair & Rodeo\, 812 Wallace Way\, Grandview\, Washington\, 98930\, United States
CATEGORIES:4-H
ORGANIZER;CN="Yakima%20Valley%20Fair%20%26amp%3B%20Rodeo":MAILTO:yakimavalleyfair.rodeo@gmail.com
END:VEVENT
BEGIN:VEVENT
DTSTART;TZID=America/Los_Angeles:20260530T080000
DTEND;TZID=America/Los_Angeles:20260530T110000
DTSTAMP:20260421T183956
CREATED:20260407T235438Z
LAST-MODIFIED:20260407T235438Z
UID:10000481-1780128000-1780138800@extension.wsu.edu
SUMMARY:Tag Pick up at Yakima Valley Fair & Rodeo - Goats\, sheep\, and swine
DESCRIPTION:NEW for 2026 is our Dairy Springer Market Class! At arrival at fair the Heifer must be pregnant a minimum of 160 days (preferably between 200 and 250 days) and have all the Dairy heifer vaccinations. (at 12 months: Bovishield Gold 5 +L5\, Calvary 9\, Deworming & Magnet. At pregnancy confirmation: Lepto 5) For those wishing to participate with the Springer Division\, be advised that this will count as one of your two market animals. We are very excited for this new market class! \n\n\n\nAll market animals will require a picture of their Scrapie ID or 840 tags when you register. You will not be able to proceed with registration without it. \n\n\n\nImportant Dates: \n\n\n\n\nSteer and Dairy Springers – Registration closed March 20th and tag pick up was March 21st from 8:00 -10:00 am at the YVFR Grounds.\n\n\n\nGoats\, sheep\, and swine – Registration closes May 29th and tag pick up is May 30th from 8:00 – 11:00 am at the YVFR Grounds.\n\n\n\n\nPlease email registeryvfr@gmail.com with any registration issues or questions. \n\n\n\nBe sure to check out the important announcements on the YVFR Exhibitors & Parents group page.
URL:https://extension.wsu.edu/yakima/event/tag-pick-up-at-yakima-valley-fair-rodeo-goats-sheep-and-swine/
LOCATION:Yakima Valley Fair & Rodeo\, 812 Wallace Way\, Grandview\, Washington\, 98930\, United States
CATEGORIES:4-H
ORGANIZER;CN="Yakima%20Valley%20Fair%20%26amp%3B%20Rodeo":MAILTO:yakimavalleyfair.rodeo@gmail.com
END:VEVENT
END:VCALENDAR