BEGIN:VCALENDAR
VERSION:2.0
PRODID:-//Yakima County - ECPv6.1.3//NONSGML v1.0//EN
CALSCALE:GREGORIAN
METHOD:PUBLISH
X-WR-CALNAME:Yakima County
X-ORIGINAL-URL:https://extension.wsu.edu/yakima
X-WR-CALDESC:Events for Yakima County
REFRESH-INTERVAL;VALUE=DURATION:PT1H
X-Robots-Tag:noindex
X-PUBLISHED-TTL:PT1H
BEGIN:VTIMEZONE
TZID:America/Los_Angeles
BEGIN:DAYLIGHT
TZOFFSETFROM:-0800
TZOFFSETTO:-0700
TZNAME:PDT
DTSTART:20260308T100000
END:DAYLIGHT
BEGIN:STANDARD
TZOFFSETFROM:-0700
TZOFFSETTO:-0800
TZNAME:PST
DTSTART:20261101T090000
END:STANDARD
END:VTIMEZONE
BEGIN:VEVENT
DTSTART;TZID=America/Los_Angeles:20260530T093000
DTEND;TZID=America/Los_Angeles:20260530T150000
DTSTAMP:20260420T160252
CREATED:20260407T230317Z
LAST-MODIFIED:20260407T230318Z
UID:10000468-1780133400-1780153200@extension.wsu.edu
SUMMARY:Upcoming Judge’s Training Opportunity
DESCRIPTION:Are you interested in supporting youth and learning how 4-H fair judging works? Join us for the 4-H Still Entry Judges Training (Westside) on May 30th from 9:30 AM – 3:00 PM at the Puyallup Research Center\, Allmendinger Room (2606 W Pioneer\, Puyallup\, WA 98371). \n\n\n\nThis introductory course will prepare you to become a registered WA 4-H judge in Photography\, Posters\, Presentations\, Food Activities\, or Textile Arts. It is open to current 4-H volunteers\, parents\, and anyone in the community interested in fair judging. \n\n\n\n    \n\n	\n\nJudge’s Training Highlights\n\n\n\n\n4-H judging principles (Danish system\, working with youth\, scorecards)\n\n\n\nHands-on workshops in your chosen area\n\n\n\nKnowledge check and mock judging\n\n\n\nNetworking with other judges and instructors\n\n\n\n\n\n\n	\n\nFees and Support\n\n\n\n\n$25: Full day (become a registered judge\, includes lunch)\n\n\n\n$10: Partial day / learning only (no lunch)\n\n\n\nCost a barrier? Attend at no cost or pay what you can afford – no questions asked.\n\n\n\nKing County residents: If you plan to judge Food Activities\, your full-day registration is covered by the King Family Living Project.\n\n\n\n\n\n\n\nRegister for the Judge’s Training today! After training you will receive an email with a link to pay via Square. \n\n\n\nCall for Instructors – Textile Arts\n\n\n\nWe are looking for additional instructors for the Textile Arts track\, especially in quilting\, fiber arts\, embroidery\, and other fabric or fiber disciplines. We prefer to have people that have 4-H judging experience to be instructors. If you are interested\, please reach out to Alyssa Bowers at alyssa.bowers1@wsu.edu.
URL:https://extension.wsu.edu/yakima/event/upcoming-judges-training-opportunity/
LOCATION:Puyallup Research Center\, Allmendinger Room\, 2606 W Pioneer\, Washington\, 98371\, United States
CATEGORIES:4-H
END:VEVENT
END:VCALENDAR