BEGIN:VCALENDAR
VERSION:2.0
PRODID:-//Yakima County - ECPv6.1.3//NONSGML v1.0//EN
CALSCALE:GREGORIAN
METHOD:PUBLISH
X-WR-CALNAME:Yakima County
X-ORIGINAL-URL:https://extension.wsu.edu/yakima
X-WR-CALDESC:Events for Yakima County
REFRESH-INTERVAL;VALUE=DURATION:PT1H
X-Robots-Tag:noindex
X-PUBLISHED-TTL:PT1H
BEGIN:VTIMEZONE
TZID:America/Los_Angeles
BEGIN:DAYLIGHT
TZOFFSETFROM:-0800
TZOFFSETTO:-0700
TZNAME:PDT
DTSTART:20250309T100000
END:DAYLIGHT
BEGIN:STANDARD
TZOFFSETFROM:-0700
TZOFFSETTO:-0800
TZNAME:PST
DTSTART:20251102T090000
END:STANDARD
END:VTIMEZONE
BEGIN:VEVENT
DTSTART;TZID=America/Los_Angeles:20251008T173000
DTEND;TZID=America/Los_Angeles:20251008T190000
DTSTAMP:20260422T024344
CREATED:20251006T183823Z
LAST-MODIFIED:20251006T183824Z
UID:10000362-1759944600-1759950000@extension.wsu.edu
SUMMARY:Yakima County 4-H Horse Council Meeting
DESCRIPTION:Interested in volunteering within the 4-H horse program? Please join us Wednesday\, October 8th at 6:00 pm in the Extension Office Small Conference Room for the Yakima County 4-H Horse Council Meeting.
URL:https://extension.wsu.edu/yakima/event/yakima-county-4-h-horse-council-meeting-4/
LOCATION:Yakima County Extension Office – Small Conference Room\, 2403 S. 18th Street\, Union Gap\, Washington\, 98903
CATEGORIES:4-H
ORGANIZER;CN="Kim%20Lansing":MAILTO:ms.berly@yahoo.com
END:VEVENT
END:VCALENDAR